BEGIN:VCALENDAR
VERSION:2.0
PRODID:-//Dr. Peter Joseph Zisa - ECPv6.15.3//NONSGML v1.0//EN
CALSCALE:GREGORIAN
METHOD:PUBLISH
X-WR-CALNAME:Dr. Peter Joseph Zisa
X-ORIGINAL-URL:https://www.peterzisa.com
X-WR-CALDESC:Events for Dr. Peter Joseph Zisa
REFRESH-INTERVAL;VALUE=DURATION:PT1H
X-Robots-Tag:noindex
X-PUBLISHED-TTL:PT1H
BEGIN:VTIMEZONE
TZID:America/Vancouver
BEGIN:DAYLIGHT
TZOFFSETFROM:-0800
TZOFFSETTO:-0700
TZNAME:PDT
DTSTART:20160313T100000
END:DAYLIGHT
BEGIN:STANDARD
TZOFFSETFROM:-0700
TZOFFSETTO:-0800
TZNAME:PST
DTSTART:20161106T090000
END:STANDARD
END:VTIMEZONE
BEGIN:VEVENT
DTSTART;TZID=America/Vancouver:20160820T193000
DTEND;TZID=America/Vancouver:20160820T193000
DTSTAMP:20260423T234047
CREATED:20160514T153309Z
LAST-MODIFIED:20160902T012624Z
UID:1381-1471721400-1471721400@www.peterzisa.com
SUMMARY:Casa Della Zisa - Travis Johnson
DESCRIPTION:Classical guitarist Travis Johnson\, former student of Dr. Zisa\, performs as part of the Casa Della Zisa home concert series. Peter Zisa will also perform selected duets with Travis Johnson. Ticket prices $20/individual or $35/family. For tickets and location information\, email casadellazisa@gmail.com or call 503-307-4907.
URL:https://www.peterzisa.com/performance/casa-della-zisa-travis-johnson/
LOCATION:Casa Della Zisa\, Portland\, OR\, United States
CATEGORIES:Casa Della Zisa
END:VEVENT
BEGIN:VEVENT
DTSTART;TZID=America/Vancouver:20160716T193000
DTEND;TZID=America/Vancouver:20160716T193000
DTSTAMP:20260423T234047
CREATED:20160514T152733Z
LAST-MODIFIED:20160514T155614Z
UID:1378-1468697400-1468697400@www.peterzisa.com
SUMMARY:Casa Della Zisa - Duo Tenebroso
DESCRIPTION:Classical guitarists David Franzen and Kristin Waligora perform as Duo Tenebroso for the Casa Della Zisa home concert series. Ticket prices $20/individual or $35/couple. For tickets and location information\, email casadellazisa@gmail.com or call 503-307-4907. \nView/Download Duo Tenebroso flyer
URL:https://www.peterzisa.com/performance/casa-della-zisa-duo-tenebroso/
LOCATION:OR
CATEGORIES:Casa Della Zisa
END:VEVENT
BEGIN:VEVENT
DTSTART;TZID=America/Vancouver:20160618T193000
DTEND;TZID=America/Vancouver:20160618T193000
DTSTAMP:20260423T234047
CREATED:20160514T152411Z
LAST-MODIFIED:20160514T155603Z
UID:1376-1466278200-1466278200@www.peterzisa.com
SUMMARY:Casa Della Zisa - Ernesto Quilban
DESCRIPTION:Classical guitarist Ernesto Quilban performs as part of the Casa Della Zisa home concert series. Ticket prices $20/individual or $35/family. For tickets and location information\, email casadellazisa@gmail.com or call 503-307-4907. \nView/Download Ernesto Quilban flyer
URL:https://www.peterzisa.com/performance/casa-della-zisa-ernesto-quilban/
LOCATION:Casa Della Zisa\, Portland\, OR\, United States
CATEGORIES:Casa Della Zisa
END:VEVENT
BEGIN:VEVENT
DTSTART;TZID=America/Vancouver:20160521T193000
DTEND;TZID=America/Vancouver:20160521T193000
DTSTAMP:20260423T234047
CREATED:20160514T152018Z
LAST-MODIFIED:20160514T232912Z
UID:1373-1463859000-1463859000@www.peterzisa.com
SUMMARY:Casa Della Zisa - Scott Cossu
DESCRIPTION:Scott Cossu performs as part of the Casa Della Zisa home concert series\, accompanied by Lonnie Mardis\, a prominent jazz guitarist in the Seattle area. Ticket prices $20/individual or $35/family. For tickets and location information\, email casadellazisa@gmail.com or call 503-307-4907. \nView/Download Scott Cossu flyer\n(flyer incorrectly states start time; begins at 7:30 pm)
URL:https://www.peterzisa.com/performance/casa-della-zisa-scott-cossu/
LOCATION:Casa Della Zisa\, Portland\, OR\, United States
CATEGORIES:Casa Della Zisa
END:VEVENT
END:VCALENDAR