BEGIN:VCALENDAR
VERSION:2.0
PRODID:-//Dr. Peter Joseph Zisa - ECPv6.15.3//NONSGML v1.0//EN
CALSCALE:GREGORIAN
METHOD:PUBLISH
X-WR-CALNAME:Dr. Peter Joseph Zisa
X-ORIGINAL-URL:https://www.peterzisa.com
X-WR-CALDESC:Events for Dr. Peter Joseph Zisa
REFRESH-INTERVAL;VALUE=DURATION:PT1H
X-Robots-Tag:noindex
X-PUBLISHED-TTL:PT1H
BEGIN:VTIMEZONE
TZID:America/Vancouver
BEGIN:DAYLIGHT
TZOFFSETFROM:-0800
TZOFFSETTO:-0700
TZNAME:PDT
DTSTART:20100314T100000
END:DAYLIGHT
BEGIN:STANDARD
TZOFFSETFROM:-0700
TZOFFSETTO:-0800
TZNAME:PST
DTSTART:20101107T090000
END:STANDARD
BEGIN:DAYLIGHT
TZOFFSETFROM:-0800
TZOFFSETTO:-0700
TZNAME:PDT
DTSTART:20110313T100000
END:DAYLIGHT
BEGIN:STANDARD
TZOFFSETFROM:-0700
TZOFFSETTO:-0800
TZNAME:PST
DTSTART:20111106T090000
END:STANDARD
BEGIN:DAYLIGHT
TZOFFSETFROM:-0800
TZOFFSETTO:-0700
TZNAME:PDT
DTSTART:20120311T100000
END:DAYLIGHT
BEGIN:STANDARD
TZOFFSETFROM:-0700
TZOFFSETTO:-0800
TZNAME:PST
DTSTART:20121104T090000
END:STANDARD
BEGIN:DAYLIGHT
TZOFFSETFROM:-0800
TZOFFSETTO:-0700
TZNAME:PDT
DTSTART:20130310T100000
END:DAYLIGHT
BEGIN:STANDARD
TZOFFSETFROM:-0700
TZOFFSETTO:-0800
TZNAME:PST
DTSTART:20131103T090000
END:STANDARD
BEGIN:DAYLIGHT
TZOFFSETFROM:-0800
TZOFFSETTO:-0700
TZNAME:PDT
DTSTART:20140309T100000
END:DAYLIGHT
BEGIN:STANDARD
TZOFFSETFROM:-0700
TZOFFSETTO:-0800
TZNAME:PST
DTSTART:20141102T090000
END:STANDARD
BEGIN:DAYLIGHT
TZOFFSETFROM:-0800
TZOFFSETTO:-0700
TZNAME:PDT
DTSTART:20150308T100000
END:DAYLIGHT
BEGIN:STANDARD
TZOFFSETFROM:-0700
TZOFFSETTO:-0800
TZNAME:PST
DTSTART:20151101T090000
END:STANDARD
BEGIN:DAYLIGHT
TZOFFSETFROM:-0800
TZOFFSETTO:-0700
TZNAME:PDT
DTSTART:20160313T100000
END:DAYLIGHT
BEGIN:STANDARD
TZOFFSETFROM:-0700
TZOFFSETTO:-0800
TZNAME:PST
DTSTART:20161106T090000
END:STANDARD
BEGIN:DAYLIGHT
TZOFFSETFROM:-0800
TZOFFSETTO:-0700
TZNAME:PDT
DTSTART:20170312T100000
END:DAYLIGHT
BEGIN:STANDARD
TZOFFSETFROM:-0700
TZOFFSETTO:-0800
TZNAME:PST
DTSTART:20171105T090000
END:STANDARD
END:VTIMEZONE
BEGIN:VEVENT
DTSTART;TZID=America/Vancouver:20170312T190000
DTEND;TZID=America/Vancouver:20170312T190000
DTSTAMP:20260423T220546
CREATED:20170303T205030Z
LAST-MODIFIED:20170303T205205Z
UID:1507-1489345200-1489345200@www.peterzisa.com
SUMMARY:Friends of Chamber Music​
DESCRIPTION:Friends of Chamber Music: Peter Zisa performs Solo Spanish and Latin music program in SE Portland. The program will include works by Manuel Ponce\, Augustin Barrios\, Walter Heinze\, Zaquinha de Abreau\, Francisco Tàrrega Sabicas\, and Paco Pena. \nIf you are interested in attending and supporting the Friends of Chamber Music series contact Pat Zagelow – Executive Director of Friends of Chamber Music – at pat@focm.org.
URL:https://www.peterzisa.com/performance/friends-of-chamber-music%e2%80%8b/
LOCATION:OR
CATEGORIES:Peter Joseph Zisa
ORGANIZER;CN="Pat Zagelow":MAILTO:pat@focm.org
END:VEVENT
BEGIN:VEVENT
DTSTART;TZID=America/Vancouver:20170308T193000
DTEND;TZID=America/Vancouver:20170308T193000
DTSTAMP:20260423T220546
CREATED:20170128T133319Z
LAST-MODIFIED:20170303T234925Z
UID:1480-1489001400-1489001400@www.peterzisa.com
SUMMARY:Thousand Waves
DESCRIPTION:Thousand Waves at PCC Rock Creek Concert Series. West Meets East program – “an eclectic and exciting blend of musical styles from different continents” (PCC/Art Beat) – blends the sounds of  the Japanese koto (Yukiko Yamaguchi)\, transverse flute (LeeAnn McKenna)\, and yours truly on six and eight string guitar. \nThe concert – sponsored by Oregon Trust\, ASPCC\, and RC Music Department – is free and open to the public.
URL:https://www.peterzisa.com/performance/thousand-waves/
LOCATION:Portland Community College: Rock Creek Campus\, 17705 NW Springville Rd.\, Portland\, OR\, 97229\, United States
CATEGORIES:Peter Joseph Zisa
ATTACH;FMTTYPE=image/png:https://www.peterzisa.com/wp-content/uploads/2017/01/1000-Waves-jpg-picture-.png
END:VEVENT
BEGIN:VEVENT
DTSTART;TZID=America/Vancouver:20170305T150000
DTEND;TZID=America/Vancouver:20170305T150000
DTSTAMP:20260423T220546
CREATED:20170128T133225Z
LAST-MODIFIED:20170303T234800Z
UID:1478-1488726000-1488726000@www.peterzisa.com
SUMMARY:Casa Della Zisa: Friends of Chamber Music
DESCRIPTION:Featuring Tatiana violinists Kolchanova and Mary Rowell\, and Peter Joseph Zisa (guitar)
URL:https://www.peterzisa.com/performance/friends-of-chamber-music/
LOCATION:OR
CATEGORIES:Casa Della Zisa,Peter Joseph Zisa
END:VEVENT
BEGIN:VEVENT
DTSTART;VALUE=DATE:20161224
DTEND;VALUE=DATE:20161225
DTSTAMP:20260423T220546
CREATED:20160929T162832Z
LAST-MODIFIED:20160929T162832Z
UID:1447-1482537600-1482623999@www.peterzisa.com
SUMMARY:Peter performs at The Grotto
DESCRIPTION:
URL:https://www.peterzisa.com/performance/peter-performs-at-the-grotto-3/
LOCATION:The Grotto\, 8840 NE Skidmore Street\, Portland\, OR\, 97220\, United States
CATEGORIES:Peter Joseph Zisa
END:VEVENT
BEGIN:VEVENT
DTSTART;VALUE=DATE:20161211
DTEND;VALUE=DATE:20161212
DTSTAMP:20260423T220546
CREATED:20160929T162757Z
LAST-MODIFIED:20160929T162757Z
UID:1445-1481414400-1481500799@www.peterzisa.com
SUMMARY:Peter performs at Marshall House
DESCRIPTION:Peter will perform with guests Rebecca Olsen (flute) and Tatiana Kolchanova (violin).
URL:https://www.peterzisa.com/performance/peter-performs-at-marshall-house/
LOCATION:The Marshall House\, 1301 Officers Row\, Vancouver\, WA\, 98661\, United States
CATEGORIES:Peter Joseph Zisa
END:VEVENT
BEGIN:VEVENT
DTSTART;TZID=America/Vancouver:20161203T190000
DTEND;TZID=America/Vancouver:20161203T210000
DTSTAMP:20260423T220546
CREATED:20160714T202106Z
LAST-MODIFIED:20161120T220101Z
UID:1423-1480791600-1480798800@www.peterzisa.com
SUMMARY:Season of Lights
DESCRIPTION:9th Annual Season of Lights holiday concert\, benefiting Alzheimer’s Choir and Jewish Family and Children Services. \nThis year\, performances will feature: \nMarilyn Keller (2016 Inductee in Portland Jazz Hall of Fame) \nIlene Safyan (Cantor at Neveh Shalom) \nBrian Haskins (Cantor at the Grotto) \nXXDigitusDuo – Maria Garcia & Momoko \nTatiana Kolchanova (violin) \nEd Kraus (clarinet\, flute)\, Steve Cohen (bass)\, Mimi (percussion) \nJohn Dodge & Maria Olaya \nIntergenerational Choir Director Crystal Meneses
URL:https://www.peterzisa.com/performance/season-of-lights-5/
LOCATION:First Congregational Church\, 1126 SW Park Avenue\, Portland\, OR\, 97205\, United States
CATEGORIES:Peter Joseph Zisa
END:VEVENT
BEGIN:VEVENT
DTSTART;TZID=America/Vancouver:20161020T171500
DTEND;TZID=America/Vancouver:20161020T181500
DTSTAMP:20260423T220546
CREATED:20160714T201937Z
LAST-MODIFIED:20160902T014212Z
UID:1422-1476983700-1476987300@www.peterzisa.com
SUMMARY:American Immigration Law Association Charity Event
DESCRIPTION:Peter performs as part of this 2016 Gala Event.
URL:https://www.peterzisa.com/performance/american-immigration-law-association-charity-event/
LOCATION:Melody Ballroom\, 615 SE Alder Street\, Portland\, OR\, 97214\, United States
CATEGORIES:Peter Joseph Zisa
END:VEVENT
BEGIN:VEVENT
DTSTART;VALUE=DATE:20161015
DTEND;VALUE=DATE:20161016
DTSTAMP:20260423T220546
CREATED:20160902T013959Z
LAST-MODIFIED:20180302T004325Z
UID:1432-1476489600-1476575999@www.peterzisa.com
SUMMARY:Siletz Bay Music Festival
DESCRIPTION:Dr. Peter Joseph Zisa will perform for the Oregon Coast Chamber Music Society on Saturday\, October 15\, 2016 at 3:00 pm. This concert will include special guest performers Mary Rowell (violin) and Yukiko Yamaguchi (koto) of Thousand Waves\, and feature the music of Francisco Tàrrega\, Heitor Villa-Lobos\, Baden Powell\, Zequinha de Abreu\, Astor Piazzolla\, Michio Miyagi\, John Kaizan-Neptune. \nReservations & Payment Information:\nTickets are $30 per person and can be purchased at siletzbaymusic.org. \nDirects to concert venue:\nCall 541-765-7770 and ask for Laurel or email laureljyoung@gmail.com.
URL:https://www.peterzisa.com/performance/siletz-bay-music-festival/
LOCATION:Laurel and Dick Young Residence\, 535 SW Cove Point\, Depoe Bay\, OR\, 97341\, United States
CATEGORIES:Peter Joseph Zisa
END:VEVENT
BEGIN:VEVENT
DTSTART;TZID=America/Vancouver:20161004T183000
DTEND;TZID=America/Vancouver:20161004T193000
DTSTAMP:20260423T220546
CREATED:20160902T013533Z
LAST-MODIFIED:20160902T013533Z
UID:1430-1475605800-1475609400@www.peterzisa.com
SUMMARY:Peter Zisa performs for Hold These Truths happy hour
DESCRIPTION: Hold These Truths Happy Hour with Playwright Jeanne Sakata \nMusic provided by Peter Zisa and Yukiko Vossen
URL:https://www.peterzisa.com/performance/peter-zisa-performs-for-hold-these-truths-happy-hour/
LOCATION:The Armory\, 128 NW Eleventh Avenue\, Portland\, OR\, 97209\, United States
CATEGORIES:Peter Joseph Zisa
END:VEVENT
BEGIN:VEVENT
DTSTART;VALUE=DATE:20161002
DTEND;VALUE=DATE:20161003
DTSTAMP:20260423T220546
CREATED:20160929T162306Z
LAST-MODIFIED:20160929T162306Z
UID:1444-1475366400-1475452799@www.peterzisa.com
SUMMARY:Peter Performs at The Grotto
DESCRIPTION:
URL:https://www.peterzisa.com/performance/peter-performs-at-the-grotto-2/
LOCATION:The Grotto\, 8840 NE Skidmore Street\, Portland\, OR\, 97220\, United States
CATEGORIES:Peter Joseph Zisa
END:VEVENT
BEGIN:VEVENT
DTSTART;VALUE=DATE:20160925
DTEND;VALUE=DATE:20160926
DTSTAMP:20260423T220546
CREATED:20160929T162234Z
LAST-MODIFIED:20160929T162234Z
UID:1442-1474761600-1474847999@www.peterzisa.com
SUMMARY:Peter Performs at The Grotto
DESCRIPTION:
URL:https://www.peterzisa.com/performance/peter-performs-at-the-grotto/
LOCATION:The Grotto\, 8840 NE Skidmore Street\, Portland\, OR\, 97220\, United States
CATEGORIES:Peter Joseph Zisa
END:VEVENT
BEGIN:VEVENT
DTSTART;TZID=America/Vancouver:20160918T110000
DTEND;TZID=America/Vancouver:20160918T130000
DTSTAMP:20260423T220546
CREATED:20160902T013150Z
LAST-MODIFIED:20160902T013150Z
UID:1428-1474196400-1474203600@www.peterzisa.com
SUMMARY:Peter Zisa performs at Nevah Shalom
DESCRIPTION:Annual Giving Donor Event \n 
URL:https://www.peterzisa.com/performance/peter-zisa-performs-at-nevah-shalom/
LOCATION:Stampfer Chapel\, 2900 SW Peaceful Lane\, Portland\, OR\, 97239\, United States
CATEGORIES:Peter Joseph Zisa
END:VEVENT
BEGIN:VEVENT
DTSTART;TZID=America/Vancouver:20160910T193000
DTEND;TZID=America/Vancouver:20160910T193000
DTSTAMP:20260423T220546
CREATED:20160714T201332Z
LAST-MODIFIED:20160902T012911Z
UID:1419-1473535800-1473535800@www.peterzisa.com
SUMMARY:Peter Zisa performs with Scott Cossu
DESCRIPTION:Peter Zisa will join world-renown pianist Scott Cossu (Windham Hill artist and recipient of the Zone Music Reporter Award “Best Instrumental Album”) and Lonnie Mardis on guitar for a special performance.
URL:https://www.peterzisa.com/performance/peter-zisa-performs-with-scott-cossu/
LOCATION:OR
CATEGORIES:Casa Della Zisa,Peter Joseph Zisa
END:VEVENT
BEGIN:VEVENT
DTSTART;VALUE=DATE:20160827
DTEND;VALUE=DATE:20160828
DTSTAMP:20260423T220546
CREATED:20160902T012322Z
LAST-MODIFIED:20160902T012340Z
UID:1426-1472256000-1472342399@www.peterzisa.com
SUMMARY:Peter Zisa performs at Yale Union Ballroom
DESCRIPTION:
URL:https://www.peterzisa.com/performance/peter-zisa-performs-at-yale-union-ballroom/
LOCATION:Private Event
CATEGORIES:Peter Joseph Zisa
END:VEVENT
BEGIN:VEVENT
DTSTART;TZID=America/Vancouver:20160727T070000
DTEND;TZID=America/Vancouver:20160727T190000
DTSTAMP:20260423T220546
CREATED:20160714T200121Z
LAST-MODIFIED:20160714T200229Z
UID:1413-1469602800-1469646000@www.peterzisa.com
SUMMARY:Peter Zisa performs with Seong Kim
DESCRIPTION:
URL:https://www.peterzisa.com/performance/peter-zisa-performs-with-seong-kim-2/
LOCATION:Portland Community College; Sylvania Campus\, 12000 SW 49th Ave\, Portland\, OR\, 97219\, United States
CATEGORIES:Peter Joseph Zisa
END:VEVENT
BEGIN:VEVENT
DTSTART;TZID=America/Vancouver:20160725T010000
DTEND;TZID=America/Vancouver:20160725T130000
DTSTAMP:20260423T220546
CREATED:20160714T195948Z
LAST-MODIFIED:20160714T200240Z
UID:1412-1469408400-1469451600@www.peterzisa.com
SUMMARY:Peter Zisa performs with Seong Kim
DESCRIPTION:
URL:https://www.peterzisa.com/performance/peter-zisa-performs-with-seong-kim/
LOCATION:Portland Community College: Rock Creek Campus\, 17705 NW Springville Rd.\, Portland\, OR\, 97229\, United States
CATEGORIES:Peter Joseph Zisa
END:VEVENT
BEGIN:VEVENT
DTSTART;VALUE=DATE:20160714
DTEND;VALUE=DATE:20161016
DTSTAMP:20260423T220546
CREATED:20160714T201527Z
LAST-MODIFIED:20160714T201603Z
UID:1420-1468454400-1476575999@www.peterzisa.com
SUMMARY:Peter Zisa and Thousand Waves
DESCRIPTION:Peter Zisa performs solo classical guitar\, followed by a performance from Thousand Waves with LeeAnn McKenna on flute and Yukio Yamaguchi on koto.
URL:https://www.peterzisa.com/performance/peter-zisa-and-thousand-waves/
LOCATION:Oregon Coast Chamber Music Society\, OR\, United States
CATEGORIES:Peter Joseph Zisa
END:VEVENT
BEGIN:VEVENT
DTSTART;TZID=America/Vancouver:20160525T193000
DTEND;TZID=America/Vancouver:20160525T193000
DTSTAMP:20260423T220546
CREATED:20160507T034908Z
LAST-MODIFIED:20160516T180425Z
UID:1309-1464204600-1464204600@www.peterzisa.com
SUMMARY:Infinite Bossa
DESCRIPTION:Peter Zisa joins Pam Beaty for an evening of Brazilian music.
URL:https://www.peterzisa.com/performance/infinite-bossa/
LOCATION:Portland Community College: Rock Creek Campus\, 17705 NW Springville Rd.\, Portland\, OR\, 97229\, United States
CATEGORIES:Peter Joseph Zisa
END:VEVENT
BEGIN:VEVENT
DTSTART;TZID=America/Vancouver:20160518T150000
DTEND;TZID=America/Vancouver:20160518T150000
DTSTAMP:20260423T220546
CREATED:20160514T182149Z
LAST-MODIFIED:20160514T182149Z
UID:1404-1463583600-1463583600@www.peterzisa.com
SUMMARY:Art and Music Improvisation
DESCRIPTION:PCC Professor and artist Mark Andres and classical guitarist Peter Joseph Zisa will perform an improvisational collaboration of art and music.  Andres’ drawing will be projected on screens inside the venue as Zisa performs on the guitar\, with musical and artistic improvisation complementing and influencing one another throughout the performance. \nLocated in Conference Hall Building 9.
URL:https://www.peterzisa.com/performance/art-and-music-improvisation/
LOCATION:Portland Community College: Rock Creek Campus\, 17705 NW Springville Rd.\, Portland\, OR\, 97229\, United States
CATEGORIES:Peter Joseph Zisa
END:VEVENT
BEGIN:VEVENT
DTSTART;TZID=America/Vancouver:20160513T180000
DTEND;TZID=America/Vancouver:20160513T200000
DTSTAMP:20260423T220546
CREATED:20160507T034718Z
LAST-MODIFIED:20160507T034718Z
UID:1308-1463162400-1463169600@www.peterzisa.com
SUMMARY:Classical Guitar With Peter Zisa
DESCRIPTION:Peter performs for Sephardic Kabbalat Shabbat with Cantor Bletstein & Cantor Shivers.
URL:https://www.peterzisa.com/performance/classical-guitar-with-peter-zisa-8/
LOCATION:OR
CATEGORIES:Peter Joseph Zisa
END:VEVENT
BEGIN:VEVENT
DTSTART;TZID=America/Vancouver:20160511T193000
DTEND;TZID=America/Vancouver:20160511T213000
DTSTAMP:20260423T220546
CREATED:20160507T034429Z
LAST-MODIFIED:20160507T034429Z
UID:1307-1462995000-1463002200@www.peterzisa.com
SUMMARY:Thousand Waves Performance
DESCRIPTION:Building 3\, Room 114\, at the Rock Creek Campus\, 17705 NW Springville Road\, Portland. Free and open to the public and parking is free in the lot behind Building 9. For more information about the concert\, please contact Jason Palmer at jason.palmer@pcc.edu\, 971-722-7869.
URL:https://www.peterzisa.com/performance/thousand-waves-performance/
LOCATION:Portland Community College: Rock Creek Campus\, 17705 NW Springville Rd.\, Portland\, OR\, 97229\, United States
CATEGORIES:Peter Joseph Zisa
END:VEVENT
BEGIN:VEVENT
DTSTART;VALUE=DATE:20160501
DTEND;VALUE=DATE:20160502
DTSTAMP:20260423T220546
CREATED:20160405T194031Z
LAST-MODIFIED:20160408T174803Z
UID:935-1462060800-1462147199@www.peterzisa.com
SUMMARY:Instrument Showcase
DESCRIPTION:Performance Time TBD
URL:https://www.peterzisa.com/performance/instrument-showcase-2/
LOCATION:Marylhurst University\, 17600 Pacific Highway (Hwy 43)\, Marylhurst\, 97036\, United States
CATEGORIES:Peter Joseph Zisa
END:VEVENT
BEGIN:VEVENT
DTSTART;VALUE=DATE:20160430
DTEND;VALUE=DATE:20160501
DTSTAMP:20260423T220546
CREATED:20160405T193934Z
LAST-MODIFIED:20160408T174745Z
UID:934-1461974400-1462060799@www.peterzisa.com
SUMMARY:Instrument Showcase
DESCRIPTION:Performance Time TBD
URL:https://www.peterzisa.com/performance/instrument-showcase/
LOCATION:Marylhurst University\, 17600 Pacific Highway (Hwy 43)\, Marylhurst\, 97036\, United States
CATEGORIES:Peter Joseph Zisa
END:VEVENT
BEGIN:VEVENT
DTSTART;TZID=America/Vancouver:20160425T183000
DTEND;TZID=America/Vancouver:20160425T203000
DTSTAMP:20260423T220546
CREATED:20160405T193819Z
LAST-MODIFIED:20160408T174727Z
UID:933-1461609000-1461616200@www.peterzisa.com
SUMMARY:George Fox University
DESCRIPTION:
URL:https://www.peterzisa.com/performance/george-fox-university-2/
LOCATION:George Fox University\, 414 N Meridian Street\, Newberg\, OR\, 97132\, United States
CATEGORIES:Peter Joseph Zisa
END:VEVENT
BEGIN:VEVENT
DTSTART;TZID=America/Vancouver:20160423T183000
DTEND;TZID=America/Vancouver:20160423T203000
DTSTAMP:20260423T220546
CREATED:20160405T193708Z
LAST-MODIFIED:20160408T174712Z
UID:932-1461436200-1461443400@www.peterzisa.com
SUMMARY:George Fox University
DESCRIPTION:
URL:https://www.peterzisa.com/performance/george-fox-university/
LOCATION:George Fox University\, 414 N Meridian Street\, Newberg\, OR\, 97132\, United States
CATEGORIES:Peter Joseph Zisa
END:VEVENT
BEGIN:VEVENT
DTSTART;TZID=America/Vancouver:20101204T193000
DTEND;TZID=America/Vancouver:20101204T213000
DTSTAMP:20260423T220546
CREATED:20160413T200002Z
LAST-MODIFIED:20160413T200002Z
UID:1215-1291491000-1291498200@www.peterzisa.com
SUMMARY:Season of Lights
DESCRIPTION:Featured Performers: Peter Zisa\, Amy Shapilo(singer songwriter) and Jeff Odenick\, Ed Krauss(Clarinet)\, John Dodge(Guitarist and composer)\, Alton Chung(Storyteller)\, Elizabeth Eklund(Mezzo soprano)\, James Schmitt(Tenor)\, Charity McKee(Singer)\, LeeAnn Sterling(Flute)\, Natsuki Suzuki(Violin)\, Yukiko Vossen(Koto)\, Kafane World Music Group(Maria Noel\, Jill Poris\, Dennis Godfrey\, Brent Greary\, Peter Whitmore)\, Marylhurst University Choir\, and First Christian Church Choir.
URL:https://www.peterzisa.com/performance/season-of-lights-4/
LOCATION:First Christian Church\, 1314 SW Park Ave\, Portland\, OR\, 97201\, United States
CATEGORIES:Peter Joseph Zisa
END:VEVENT
BEGIN:VEVENT
DTSTART;TZID=America/Vancouver:20101114T140000
DTEND;TZID=America/Vancouver:20101114T160000
DTSTAMP:20260423T220546
CREATED:20160413T195855Z
LAST-MODIFIED:20160413T195855Z
UID:1214-1289743200-1289750400@www.peterzisa.com
SUMMARY:Thousand Waves Concert
DESCRIPTION:Peter Zisa with guest artists Yukiko Vossen on koto\, LeeAnn Sterling on flute\, Natsuki Suzuki on violin and Nancy Durham on percussion.
URL:https://www.peterzisa.com/performance/thousand-waves-concert-3/
LOCATION:Oregon Jewish Museum\, 1953 Northwest Kearney Street \, Portland\, OR\, 97209\, United States
CATEGORIES:Peter Joseph Zisa
END:VEVENT
BEGIN:VEVENT
DTSTART;TZID=America/Vancouver:20101110T190000
DTEND;TZID=America/Vancouver:20101110T210000
DTSTAMP:20260423T220546
CREATED:20160413T195714Z
LAST-MODIFIED:20160413T195714Z
UID:1213-1289415600-1289422800@www.peterzisa.com
SUMMARY:Music of Bach and Piazzolla
DESCRIPTION:Peter Zisa with guest artist LeeAnn Sterling
URL:https://www.peterzisa.com/performance/music-of-bach-and-piazzolla/
LOCATION:Portland Community College: Rock Creek Campus\, 17705 NW Springville Rd.\, Portland\, OR\, 97229\, United States
CATEGORIES:Peter Joseph Zisa
END:VEVENT
BEGIN:VEVENT
DTSTART;TZID=America/Vancouver:20100905T140000
DTEND;TZID=America/Vancouver:20100905T153000
DTSTAMP:20260423T220546
CREATED:20160413T195605Z
LAST-MODIFIED:20160413T195605Z
UID:1212-1283695200-1283700600@www.peterzisa.com
SUMMARY:Wedding
DESCRIPTION:Private wedding ceremony.
URL:https://www.peterzisa.com/performance/wedding/
LOCATION:Skamania Lodge\, 1131 Southwest Skamania Way\, Stevenson\, WA\, 98648\, United States
CATEGORIES:Peter Joseph Zisa
END:VEVENT
BEGIN:VEVENT
DTSTART;TZID=America/Vancouver:20100516T150000
DTEND;TZID=America/Vancouver:20100516T170000
DTSTAMP:20260423T220546
CREATED:20160413T195504Z
LAST-MODIFIED:20160413T195504Z
UID:1211-1274022000-1274029200@www.peterzisa.com
SUMMARY:Concert
DESCRIPTION:Peter Zisa performs with LeeAnn Sterling on flute at Weigand Recital Hall\, featuring Miysuki Dazai and Yukiko Vossen.
URL:https://www.peterzisa.com/performance/concert-3/
LOCATION:Marylhurst University\, 17600 Pacific Highway (Hwy 43)\, Marylhurst\, 97036\, United States
CATEGORIES:Peter Joseph Zisa
END:VEVENT
END:VCALENDAR