BEGIN:VCALENDAR
VERSION:2.0
PRODID:-//Dr. Peter Joseph Zisa - ECPv6.15.3//NONSGML v1.0//EN
CALSCALE:GREGORIAN
METHOD:PUBLISH
X-WR-CALNAME:Dr. Peter Joseph Zisa
X-ORIGINAL-URL:https://www.peterzisa.com
X-WR-CALDESC:Events for Dr. Peter Joseph Zisa
REFRESH-INTERVAL;VALUE=DURATION:PT1H
X-Robots-Tag:noindex
X-PUBLISHED-TTL:PT1H
BEGIN:VTIMEZONE
TZID:America/Vancouver
BEGIN:DAYLIGHT
TZOFFSETFROM:-0800
TZOFFSETTO:-0700
TZNAME:PDT
DTSTART:20090308T100000
END:DAYLIGHT
BEGIN:STANDARD
TZOFFSETFROM:-0700
TZOFFSETTO:-0800
TZNAME:PST
DTSTART:20091101T090000
END:STANDARD
BEGIN:DAYLIGHT
TZOFFSETFROM:-0800
TZOFFSETTO:-0700
TZNAME:PDT
DTSTART:20100314T100000
END:DAYLIGHT
BEGIN:STANDARD
TZOFFSETFROM:-0700
TZOFFSETTO:-0800
TZNAME:PST
DTSTART:20101107T090000
END:STANDARD
BEGIN:DAYLIGHT
TZOFFSETFROM:-0800
TZOFFSETTO:-0700
TZNAME:PDT
DTSTART:20110313T100000
END:DAYLIGHT
BEGIN:STANDARD
TZOFFSETFROM:-0700
TZOFFSETTO:-0800
TZNAME:PST
DTSTART:20111106T090000
END:STANDARD
BEGIN:DAYLIGHT
TZOFFSETFROM:-0800
TZOFFSETTO:-0700
TZNAME:PDT
DTSTART:20120311T100000
END:DAYLIGHT
BEGIN:STANDARD
TZOFFSETFROM:-0700
TZOFFSETTO:-0800
TZNAME:PST
DTSTART:20121104T090000
END:STANDARD
BEGIN:DAYLIGHT
TZOFFSETFROM:-0800
TZOFFSETTO:-0700
TZNAME:PDT
DTSTART:20130310T100000
END:DAYLIGHT
BEGIN:STANDARD
TZOFFSETFROM:-0700
TZOFFSETTO:-0800
TZNAME:PST
DTSTART:20131103T090000
END:STANDARD
BEGIN:DAYLIGHT
TZOFFSETFROM:-0800
TZOFFSETTO:-0700
TZNAME:PDT
DTSTART:20140309T100000
END:DAYLIGHT
BEGIN:STANDARD
TZOFFSETFROM:-0700
TZOFFSETTO:-0800
TZNAME:PST
DTSTART:20141102T090000
END:STANDARD
BEGIN:DAYLIGHT
TZOFFSETFROM:-0800
TZOFFSETTO:-0700
TZNAME:PDT
DTSTART:20150308T100000
END:DAYLIGHT
BEGIN:STANDARD
TZOFFSETFROM:-0700
TZOFFSETTO:-0800
TZNAME:PST
DTSTART:20151101T090000
END:STANDARD
BEGIN:DAYLIGHT
TZOFFSETFROM:-0800
TZOFFSETTO:-0700
TZNAME:PDT
DTSTART:20160313T100000
END:DAYLIGHT
BEGIN:STANDARD
TZOFFSETFROM:-0700
TZOFFSETTO:-0800
TZNAME:PST
DTSTART:20161106T090000
END:STANDARD
END:VTIMEZONE
BEGIN:VEVENT
DTSTART;TZID=America/Vancouver:20160511T193000
DTEND;TZID=America/Vancouver:20160511T213000
DTSTAMP:20260424T010155
CREATED:20160507T034429Z
LAST-MODIFIED:20160507T034429Z
UID:1307-1462995000-1463002200@www.peterzisa.com
SUMMARY:Thousand Waves Performance
DESCRIPTION:Building 3\, Room 114\, at the Rock Creek Campus\, 17705 NW Springville Road\, Portland. Free and open to the public and parking is free in the lot behind Building 9. For more information about the concert\, please contact Jason Palmer at jason.palmer@pcc.edu\, 971-722-7869.
URL:https://www.peterzisa.com/performance/thousand-waves-performance/
LOCATION:Portland Community College: Rock Creek Campus\, 17705 NW Springville Rd.\, Portland\, OR\, 97229\, United States
CATEGORIES:Peter Joseph Zisa
END:VEVENT
BEGIN:VEVENT
DTSTART;VALUE=DATE:20160501
DTEND;VALUE=DATE:20160502
DTSTAMP:20260424T010155
CREATED:20160405T194031Z
LAST-MODIFIED:20160408T174803Z
UID:935-1462060800-1462147199@www.peterzisa.com
SUMMARY:Instrument Showcase
DESCRIPTION:Performance Time TBD
URL:https://www.peterzisa.com/performance/instrument-showcase-2/
LOCATION:Marylhurst University\, 17600 Pacific Highway (Hwy 43)\, Marylhurst\, 97036\, United States
CATEGORIES:Peter Joseph Zisa
END:VEVENT
BEGIN:VEVENT
DTSTART;VALUE=DATE:20160430
DTEND;VALUE=DATE:20160501
DTSTAMP:20260424T010155
CREATED:20160405T193934Z
LAST-MODIFIED:20160408T174745Z
UID:934-1461974400-1462060799@www.peterzisa.com
SUMMARY:Instrument Showcase
DESCRIPTION:Performance Time TBD
URL:https://www.peterzisa.com/performance/instrument-showcase/
LOCATION:Marylhurst University\, 17600 Pacific Highway (Hwy 43)\, Marylhurst\, 97036\, United States
CATEGORIES:Peter Joseph Zisa
END:VEVENT
BEGIN:VEVENT
DTSTART;TZID=America/Vancouver:20160425T183000
DTEND;TZID=America/Vancouver:20160425T203000
DTSTAMP:20260424T010155
CREATED:20160405T193819Z
LAST-MODIFIED:20160408T174727Z
UID:933-1461609000-1461616200@www.peterzisa.com
SUMMARY:George Fox University
DESCRIPTION:
URL:https://www.peterzisa.com/performance/george-fox-university-2/
LOCATION:George Fox University\, 414 N Meridian Street\, Newberg\, OR\, 97132\, United States
CATEGORIES:Peter Joseph Zisa
END:VEVENT
BEGIN:VEVENT
DTSTART;TZID=America/Vancouver:20160423T183000
DTEND;TZID=America/Vancouver:20160423T203000
DTSTAMP:20260424T010155
CREATED:20160405T193708Z
LAST-MODIFIED:20160408T174712Z
UID:932-1461436200-1461443400@www.peterzisa.com
SUMMARY:George Fox University
DESCRIPTION:
URL:https://www.peterzisa.com/performance/george-fox-university/
LOCATION:George Fox University\, 414 N Meridian Street\, Newberg\, OR\, 97132\, United States
CATEGORIES:Peter Joseph Zisa
END:VEVENT
BEGIN:VEVENT
DTSTART;TZID=America/Vancouver:20101204T193000
DTEND;TZID=America/Vancouver:20101204T213000
DTSTAMP:20260424T010155
CREATED:20160413T200002Z
LAST-MODIFIED:20160413T200002Z
UID:1215-1291491000-1291498200@www.peterzisa.com
SUMMARY:Season of Lights
DESCRIPTION:Featured Performers: Peter Zisa\, Amy Shapilo(singer songwriter) and Jeff Odenick\, Ed Krauss(Clarinet)\, John Dodge(Guitarist and composer)\, Alton Chung(Storyteller)\, Elizabeth Eklund(Mezzo soprano)\, James Schmitt(Tenor)\, Charity McKee(Singer)\, LeeAnn Sterling(Flute)\, Natsuki Suzuki(Violin)\, Yukiko Vossen(Koto)\, Kafane World Music Group(Maria Noel\, Jill Poris\, Dennis Godfrey\, Brent Greary\, Peter Whitmore)\, Marylhurst University Choir\, and First Christian Church Choir.
URL:https://www.peterzisa.com/performance/season-of-lights-4/
LOCATION:First Christian Church\, 1314 SW Park Ave\, Portland\, OR\, 97201\, United States
CATEGORIES:Peter Joseph Zisa
END:VEVENT
BEGIN:VEVENT
DTSTART;TZID=America/Vancouver:20101114T140000
DTEND;TZID=America/Vancouver:20101114T160000
DTSTAMP:20260424T010155
CREATED:20160413T195855Z
LAST-MODIFIED:20160413T195855Z
UID:1214-1289743200-1289750400@www.peterzisa.com
SUMMARY:Thousand Waves Concert
DESCRIPTION:Peter Zisa with guest artists Yukiko Vossen on koto\, LeeAnn Sterling on flute\, Natsuki Suzuki on violin and Nancy Durham on percussion.
URL:https://www.peterzisa.com/performance/thousand-waves-concert-3/
LOCATION:Oregon Jewish Museum\, 1953 Northwest Kearney Street \, Portland\, OR\, 97209\, United States
CATEGORIES:Peter Joseph Zisa
END:VEVENT
BEGIN:VEVENT
DTSTART;TZID=America/Vancouver:20101110T190000
DTEND;TZID=America/Vancouver:20101110T210000
DTSTAMP:20260424T010155
CREATED:20160413T195714Z
LAST-MODIFIED:20160413T195714Z
UID:1213-1289415600-1289422800@www.peterzisa.com
SUMMARY:Music of Bach and Piazzolla
DESCRIPTION:Peter Zisa with guest artist LeeAnn Sterling
URL:https://www.peterzisa.com/performance/music-of-bach-and-piazzolla/
LOCATION:Portland Community College: Rock Creek Campus\, 17705 NW Springville Rd.\, Portland\, OR\, 97229\, United States
CATEGORIES:Peter Joseph Zisa
END:VEVENT
BEGIN:VEVENT
DTSTART;TZID=America/Vancouver:20100905T140000
DTEND;TZID=America/Vancouver:20100905T153000
DTSTAMP:20260424T010155
CREATED:20160413T195605Z
LAST-MODIFIED:20160413T195605Z
UID:1212-1283695200-1283700600@www.peterzisa.com
SUMMARY:Wedding
DESCRIPTION:Private wedding ceremony.
URL:https://www.peterzisa.com/performance/wedding/
LOCATION:Skamania Lodge\, 1131 Southwest Skamania Way\, Stevenson\, WA\, 98648\, United States
CATEGORIES:Peter Joseph Zisa
END:VEVENT
BEGIN:VEVENT
DTSTART;TZID=America/Vancouver:20100516T150000
DTEND;TZID=America/Vancouver:20100516T170000
DTSTAMP:20260424T010155
CREATED:20160413T195504Z
LAST-MODIFIED:20160413T195504Z
UID:1211-1274022000-1274029200@www.peterzisa.com
SUMMARY:Concert
DESCRIPTION:Peter Zisa performs with LeeAnn Sterling on flute at Weigand Recital Hall\, featuring Miysuki Dazai and Yukiko Vossen.
URL:https://www.peterzisa.com/performance/concert-3/
LOCATION:Marylhurst University\, 17600 Pacific Highway (Hwy 43)\, Marylhurst\, 97036\, United States
CATEGORIES:Peter Joseph Zisa
END:VEVENT
BEGIN:VEVENT
DTSTART;TZID=America/Vancouver:20100515T190000
DTEND;TZID=America/Vancouver:20100515T210000
DTSTAMP:20260424T010155
CREATED:20160413T195343Z
LAST-MODIFIED:20160413T195343Z
UID:1210-1273950000-1273957200@www.peterzisa.com
SUMMARY:Thousand Waves Concert
DESCRIPTION:Peter Zisa performs with guest artists LeeAnn Sterling on flute and Yukiko Vossen on koto\, as the trio “Thousand Waves”.
URL:https://www.peterzisa.com/performance/thousand-waves-concert-2/
LOCATION:Lincoln City Cultural Center\, 540 NE Highway 101\, Lincoln City\, OR\, 97367\, United States
CATEGORIES:Peter Joseph Zisa
END:VEVENT
BEGIN:VEVENT
DTSTART;TZID=America/Vancouver:20100508T190000
DTEND;TZID=America/Vancouver:20100508T210000
DTSTAMP:20260424T010155
CREATED:20160413T195204Z
LAST-MODIFIED:20160413T195204Z
UID:1209-1273345200-1273352400@www.peterzisa.com
SUMMARY:Concert
DESCRIPTION:
URL:https://www.peterzisa.com/performance/concert-2/
LOCATION:Odysius Hotel\, 120 NW Inlet Court\, Lincoln City\, OR\, 97367\, United States
CATEGORIES:Peter Joseph Zisa
END:VEVENT
BEGIN:VEVENT
DTSTART;TZID=America/Vancouver:20100506T110000
DTEND;TZID=America/Vancouver:20100506T120000
DTSTAMP:20260424T010155
CREATED:20160413T195105Z
LAST-MODIFIED:20160413T195105Z
UID:1208-1273143600-1273147200@www.peterzisa.com
SUMMARY:Doernbecher Guild
DESCRIPTION:
URL:https://www.peterzisa.com/performance/doernbecher-guild/
LOCATION:Waverly Country Club\, 1100 SE Waverly Drive\, Milwaukie\, OR\, 97222\, United States
CATEGORIES:Peter Joseph Zisa
END:VEVENT
BEGIN:VEVENT
DTSTART;VALUE=DATE:20100425
DTEND;VALUE=DATE:20100426
DTSTAMP:20260424T010155
CREATED:20160413T195010Z
LAST-MODIFIED:20160413T195010Z
UID:1207-1272153600-1272239999@www.peterzisa.com
SUMMARY:Instrument Showcase
DESCRIPTION:Performance Time TBD
URL:https://www.peterzisa.com/performance/instrument-showcase-5/
LOCATION:Marylhurst University\, 17600 Pacific Highway (Hwy 43)\, Marylhurst\, 97036\, United States
CATEGORIES:Peter Joseph Zisa
END:VEVENT
BEGIN:VEVENT
DTSTART;VALUE=DATE:20100424
DTEND;VALUE=DATE:20100425
DTSTAMP:20260424T010155
CREATED:20160413T194916Z
LAST-MODIFIED:20160413T194916Z
UID:1206-1272067200-1272153599@www.peterzisa.com
SUMMARY:Instrument Showcase
DESCRIPTION:Performance Time TBD
URL:https://www.peterzisa.com/performance/instrument-showcase-4/
LOCATION:Marylhurst University\, 17600 Pacific Highway (Hwy 43)\, Marylhurst\, 97036\, United States
CATEGORIES:Peter Joseph Zisa
END:VEVENT
BEGIN:VEVENT
DTSTART;TZID=America/Vancouver:20100422T100000
DTEND;TZID=America/Vancouver:20100422T113000
DTSTAMP:20260424T010155
CREATED:20160413T194816Z
LAST-MODIFIED:20160413T194816Z
UID:1205-1271930400-1271935800@www.peterzisa.com
SUMMARY:The Friends of the Oregon Symphony: Southwest Chapter
DESCRIPTION:Private performance featuring Peter Zisa with LeeAnn Sterling.
URL:https://www.peterzisa.com/performance/the-friends-of-the-oregon-symphony-southwest-chapter/
LOCATION:OR
CATEGORIES:Peter Joseph Zisa
END:VEVENT
BEGIN:VEVENT
DTSTART;TZID=America/Vancouver:20100320T190000
DTEND;TZID=America/Vancouver:20100320T210000
DTSTAMP:20260424T010155
CREATED:20160413T194636Z
LAST-MODIFIED:20160413T194701Z
UID:1204-1269111600-1269118800@www.peterzisa.com
SUMMARY:House Concert
DESCRIPTION:Private performance featuring Peter Zisa with special guest Leann Sterling.
URL:https://www.peterzisa.com/performance/house-concert/
LOCATION:OR
CATEGORIES:Peter Joseph Zisa
END:VEVENT
BEGIN:VEVENT
DTSTART;TZID=America/Vancouver:20100215T190000
DTEND;TZID=America/Vancouver:20100215T210000
DTSTAMP:20260424T010155
CREATED:20160413T194505Z
LAST-MODIFIED:20160413T194505Z
UID:1203-1266260400-1266267600@www.peterzisa.com
SUMMARY:Thousand Waves Concert
DESCRIPTION:Thousand Waves performance featuring Peter Zisa\, Lee Ann Sterling and Yukiko Vossen.
URL:https://www.peterzisa.com/performance/thousand-waves-concert/
LOCATION:Portland Community College: Rock Creek Campus\, 17705 NW Springville Rd.\, Portland\, OR\, 97229\, United States
CATEGORIES:Peter Joseph Zisa
END:VEVENT
BEGIN:VEVENT
DTSTART;TZID=America/Vancouver:20100204T180000
DTEND;TZID=America/Vancouver:20100204T210000
DTSTAMP:20260424T010155
CREATED:20160413T194406Z
LAST-MODIFIED:20160413T194406Z
UID:1202-1265306400-1265317200@www.peterzisa.com
SUMMARY:First Thursday
DESCRIPTION:
URL:https://www.peterzisa.com/performance/first-thursday-27/
LOCATION:Lawrence Gallery\, 903 NW Davis Street\, Portland\, OR\, 97209\, United States
CATEGORIES:Peter Joseph Zisa
END:VEVENT
BEGIN:VEVENT
DTSTART;TZID=America/Vancouver:20100107T180000
DTEND;TZID=America/Vancouver:20100107T210000
DTSTAMP:20260424T010155
CREATED:20160413T194325Z
LAST-MODIFIED:20160413T194325Z
UID:1201-1262887200-1262898000@www.peterzisa.com
SUMMARY:First Thursday
DESCRIPTION:
URL:https://www.peterzisa.com/performance/first-thursday-26/
LOCATION:Lawrence Gallery\, 903 NW Davis Street\, Portland\, OR\, 97209\, United States
CATEGORIES:Peter Joseph Zisa
END:VEVENT
BEGIN:VEVENT
DTSTART;TZID=America/Vancouver:20091205T193000
DTEND;TZID=America/Vancouver:20091205T213000
DTSTAMP:20260424T010155
CREATED:20160413T192603Z
LAST-MODIFIED:20160413T192659Z
UID:1200-1260041400-1260048600@www.peterzisa.com
SUMMARY:Season of Lights
DESCRIPTION:Third annual Season of Lights concert. \nFree concert gift to the community to benefit the needy Portland families. \nFeatured Performers include Amy and Jeff Shapiro (Singer songwriters)\, John Dodge (Guitarist & composer)\, Elizabeth Eklund (Mezzo soprano)\, LeeAnn Sterling (Flutist)\, Alton Chung (Story Teller)\, First Christian Church Choir\, Thousand Waves (West meets East)\, Kend’alin (World music).
URL:https://www.peterzisa.com/performance/season-of-lights-3/
LOCATION:First Christian Church\, 1314 SW Park Ave\, Portland\, OR\, 97201\, United States
CATEGORIES:Peter Joseph Zisa
END:VEVENT
BEGIN:VEVENT
DTSTART;TZID=America/Vancouver:20091119T190000
DTEND;TZID=America/Vancouver:20091119T210000
DTSTAMP:20260424T010155
CREATED:20160413T192401Z
LAST-MODIFIED:20160413T192401Z
UID:1199-1258657200-1258664400@www.peterzisa.com
SUMMARY:Taiko Class
DESCRIPTION:Peter Zisa with guest artist Yukiko Vossen.
URL:https://www.peterzisa.com/performance/taiko-class/
LOCATION:Portland Metropolitan Workforce Training Center\, 5600 NE 42nd\, Portland\, OR\, 97218\, United States
CATEGORIES:Peter Joseph Zisa
END:VEVENT
BEGIN:VEVENT
DTSTART;TZID=America/Vancouver:20091105T180000
DTEND;TZID=America/Vancouver:20091105T210000
DTSTAMP:20260424T010155
CREATED:20160413T192242Z
LAST-MODIFIED:20160413T192242Z
UID:1198-1257444000-1257454800@www.peterzisa.com
SUMMARY:First Thursday
DESCRIPTION:
URL:https://www.peterzisa.com/performance/first-thursday-25/
LOCATION:Lawrence Gallery\, 903 NW Davis Street\, Portland\, OR\, 97209\, United States
CATEGORIES:Peter Joseph Zisa
END:VEVENT
BEGIN:VEVENT
DTSTART;TZID=America/Vancouver:20091031T200000
DTEND;TZID=America/Vancouver:20091031T220000
DTSTAMP:20260424T010155
CREATED:20160413T192104Z
LAST-MODIFIED:20160413T192156Z
UID:1197-1257019200-1257026400@www.peterzisa.com
SUMMARY:Concert
DESCRIPTION:Peter Zisa and Yukiko Vossen will perform with Jazz Shakuhachi* player John Kaizan Neptune\, Darrell Grant on piano\, Todd Strait on drums and Dennis Caiazaa on bass. \n*Bamboo Flute
URL:https://www.peterzisa.com/performance/concert/
LOCATION:Marylhurst University\, 17600 Pacific Highway (Hwy 43)\, Marylhurst\, 97036\, United States
CATEGORIES:Peter Joseph Zisa
END:VEVENT
BEGIN:VEVENT
DTSTART;TZID=America/Vancouver:20091001T180000
DTEND;TZID=America/Vancouver:20091001T210000
DTSTAMP:20260424T010155
CREATED:20160413T191944Z
LAST-MODIFIED:20160413T191944Z
UID:1196-1254420000-1254430800@www.peterzisa.com
SUMMARY:First Thursday
DESCRIPTION:
URL:https://www.peterzisa.com/performance/first-thursday-24/
LOCATION:Lawrence Gallery\, 903 NW Davis Street\, Portland\, OR\, 97209\, United States
CATEGORIES:Peter Joseph Zisa
END:VEVENT
BEGIN:VEVENT
DTSTART;TZID=America/Vancouver:20090903T180000
DTEND;TZID=America/Vancouver:20090903T210000
DTSTAMP:20260424T010155
CREATED:20160413T191904Z
LAST-MODIFIED:20160413T191904Z
UID:1195-1252000800-1252011600@www.peterzisa.com
SUMMARY:First Thursday
DESCRIPTION:
URL:https://www.peterzisa.com/performance/first-thursday-23/
LOCATION:Lawrence Gallery\, 903 NW Davis Street\, Portland\, OR\, 97209\, United States
CATEGORIES:Peter Joseph Zisa
END:VEVENT
BEGIN:VEVENT
DTSTART;TZID=America/Vancouver:20090806T180000
DTEND;TZID=America/Vancouver:20090806T210000
DTSTAMP:20260424T010155
CREATED:20160413T191627Z
LAST-MODIFIED:20160413T191627Z
UID:1193-1249581600-1249592400@www.peterzisa.com
SUMMARY:First Thursday
DESCRIPTION:
URL:https://www.peterzisa.com/performance/first-thursday-22/
LOCATION:Lawrence Gallery\, 903 NW Davis Street\, Portland\, OR\, 97209\, United States
CATEGORIES:Peter Joseph Zisa
END:VEVENT
BEGIN:VEVENT
DTSTART;TZID=America/Vancouver:20090806T180000
DTEND;TZID=America/Vancouver:20090806T200000
DTSTAMP:20260424T010155
CREATED:20160413T191810Z
LAST-MODIFIED:20160413T191818Z
UID:1194-1249581600-1249588800@www.peterzisa.com
SUMMARY:Hiroshima and Nagasaki Memorial
DESCRIPTION:Thousand Waves performance featuring Peter Zisa\, LeeAnn Sterling on flute and Yukiko Vossen on koto.
URL:https://www.peterzisa.com/performance/hiroshima-and-nagasaki-memorial/
LOCATION:Waterfront Park\, Naito Pkwy\, Portland\, OR\, 97201\, United States
CATEGORIES:Peter Joseph Zisa
END:VEVENT
BEGIN:VEVENT
DTSTART;VALUE=DATE:20090606
DTEND;VALUE=DATE:20090607
DTSTAMP:20260424T010155
CREATED:20160413T191515Z
LAST-MODIFIED:20160413T191515Z
UID:1192-1244246400-1244332799@www.peterzisa.com
SUMMARY:Portland Classic Guitar Concert Series
DESCRIPTION:Performance Time TBD
URL:https://www.peterzisa.com/performance/portland-classic-guitar-concert-series/
LOCATION:Portland Classic Guitar\, 18605 Willamette Drive\, West Linn\, OR\, 97068\, United States
CATEGORIES:Peter Joseph Zisa
END:VEVENT
BEGIN:VEVENT
DTSTART;TZID=America/Vancouver:20090604T180000
DTEND;TZID=America/Vancouver:20090604T210000
DTSTAMP:20260424T010155
CREATED:20160413T191424Z
LAST-MODIFIED:20160413T191424Z
UID:1191-1244138400-1244149200@www.peterzisa.com
SUMMARY:First Thursday
DESCRIPTION:
URL:https://www.peterzisa.com/performance/first-thursday-21/
LOCATION:Lawrence Gallery\, 903 NW Davis Street\, Portland\, OR\, 97209\, United States
CATEGORIES:Peter Joseph Zisa
END:VEVENT
END:VCALENDAR