BEGIN:VCALENDAR
VERSION:2.0
PRODID:-//Dr. Peter Joseph Zisa - ECPv6.15.3//NONSGML v1.0//EN
CALSCALE:GREGORIAN
METHOD:PUBLISH
X-WR-CALNAME:Dr. Peter Joseph Zisa
X-ORIGINAL-URL:https://www.peterzisa.com
X-WR-CALDESC:Events for Dr. Peter Joseph Zisa
REFRESH-INTERVAL;VALUE=DURATION:PT1H
X-Robots-Tag:noindex
X-PUBLISHED-TTL:PT1H
BEGIN:VTIMEZONE
TZID:America/Vancouver
BEGIN:DAYLIGHT
TZOFFSETFROM:-0800
TZOFFSETTO:-0700
TZNAME:PDT
DTSTART:20080309T100000
END:DAYLIGHT
BEGIN:STANDARD
TZOFFSETFROM:-0700
TZOFFSETTO:-0800
TZNAME:PST
DTSTART:20081102T090000
END:STANDARD
BEGIN:DAYLIGHT
TZOFFSETFROM:-0800
TZOFFSETTO:-0700
TZNAME:PDT
DTSTART:20090308T100000
END:DAYLIGHT
BEGIN:STANDARD
TZOFFSETFROM:-0700
TZOFFSETTO:-0800
TZNAME:PST
DTSTART:20091101T090000
END:STANDARD
BEGIN:DAYLIGHT
TZOFFSETFROM:-0800
TZOFFSETTO:-0700
TZNAME:PDT
DTSTART:20100314T100000
END:DAYLIGHT
BEGIN:STANDARD
TZOFFSETFROM:-0700
TZOFFSETTO:-0800
TZNAME:PST
DTSTART:20101107T090000
END:STANDARD
BEGIN:DAYLIGHT
TZOFFSETFROM:-0800
TZOFFSETTO:-0700
TZNAME:PDT
DTSTART:20110313T100000
END:DAYLIGHT
BEGIN:STANDARD
TZOFFSETFROM:-0700
TZOFFSETTO:-0800
TZNAME:PST
DTSTART:20111106T090000
END:STANDARD
BEGIN:DAYLIGHT
TZOFFSETFROM:-0800
TZOFFSETTO:-0700
TZNAME:PDT
DTSTART:20120311T100000
END:DAYLIGHT
BEGIN:STANDARD
TZOFFSETFROM:-0700
TZOFFSETTO:-0800
TZNAME:PST
DTSTART:20121104T090000
END:STANDARD
BEGIN:DAYLIGHT
TZOFFSETFROM:-0800
TZOFFSETTO:-0700
TZNAME:PDT
DTSTART:20130310T100000
END:DAYLIGHT
BEGIN:STANDARD
TZOFFSETFROM:-0700
TZOFFSETTO:-0800
TZNAME:PST
DTSTART:20131103T090000
END:STANDARD
BEGIN:DAYLIGHT
TZOFFSETFROM:-0800
TZOFFSETTO:-0700
TZNAME:PDT
DTSTART:20140309T100000
END:DAYLIGHT
BEGIN:STANDARD
TZOFFSETFROM:-0700
TZOFFSETTO:-0800
TZNAME:PST
DTSTART:20141102T090000
END:STANDARD
BEGIN:DAYLIGHT
TZOFFSETFROM:-0800
TZOFFSETTO:-0700
TZNAME:PDT
DTSTART:20150308T100000
END:DAYLIGHT
BEGIN:STANDARD
TZOFFSETFROM:-0700
TZOFFSETTO:-0800
TZNAME:PST
DTSTART:20151101T090000
END:STANDARD
BEGIN:DAYLIGHT
TZOFFSETFROM:-0800
TZOFFSETTO:-0700
TZNAME:PDT
DTSTART:20160313T100000
END:DAYLIGHT
BEGIN:STANDARD
TZOFFSETFROM:-0700
TZOFFSETTO:-0800
TZNAME:PST
DTSTART:20161106T090000
END:STANDARD
END:VTIMEZONE
BEGIN:VEVENT
DTSTART;TZID=America/Vancouver:20091205T193000
DTEND;TZID=America/Vancouver:20091205T213000
DTSTAMP:20260424T041041
CREATED:20160413T192603Z
LAST-MODIFIED:20160413T192659Z
UID:1200-1260041400-1260048600@www.peterzisa.com
SUMMARY:Season of Lights
DESCRIPTION:Third annual Season of Lights concert. \nFree concert gift to the community to benefit the needy Portland families. \nFeatured Performers include Amy and Jeff Shapiro (Singer songwriters)\, John Dodge (Guitarist & composer)\, Elizabeth Eklund (Mezzo soprano)\, LeeAnn Sterling (Flutist)\, Alton Chung (Story Teller)\, First Christian Church Choir\, Thousand Waves (West meets East)\, Kend’alin (World music).
URL:https://www.peterzisa.com/performance/season-of-lights-3/
LOCATION:First Christian Church\, 1314 SW Park Ave\, Portland\, OR\, 97201\, United States
CATEGORIES:Peter Joseph Zisa
END:VEVENT
BEGIN:VEVENT
DTSTART;TZID=America/Vancouver:20091119T190000
DTEND;TZID=America/Vancouver:20091119T210000
DTSTAMP:20260424T041041
CREATED:20160413T192401Z
LAST-MODIFIED:20160413T192401Z
UID:1199-1258657200-1258664400@www.peterzisa.com
SUMMARY:Taiko Class
DESCRIPTION:Peter Zisa with guest artist Yukiko Vossen.
URL:https://www.peterzisa.com/performance/taiko-class/
LOCATION:Portland Metropolitan Workforce Training Center\, 5600 NE 42nd\, Portland\, OR\, 97218\, United States
CATEGORIES:Peter Joseph Zisa
END:VEVENT
BEGIN:VEVENT
DTSTART;TZID=America/Vancouver:20091105T180000
DTEND;TZID=America/Vancouver:20091105T210000
DTSTAMP:20260424T041041
CREATED:20160413T192242Z
LAST-MODIFIED:20160413T192242Z
UID:1198-1257444000-1257454800@www.peterzisa.com
SUMMARY:First Thursday
DESCRIPTION:
URL:https://www.peterzisa.com/performance/first-thursday-25/
LOCATION:Lawrence Gallery\, 903 NW Davis Street\, Portland\, OR\, 97209\, United States
CATEGORIES:Peter Joseph Zisa
END:VEVENT
BEGIN:VEVENT
DTSTART;TZID=America/Vancouver:20091031T200000
DTEND;TZID=America/Vancouver:20091031T220000
DTSTAMP:20260424T041041
CREATED:20160413T192104Z
LAST-MODIFIED:20160413T192156Z
UID:1197-1257019200-1257026400@www.peterzisa.com
SUMMARY:Concert
DESCRIPTION:Peter Zisa and Yukiko Vossen will perform with Jazz Shakuhachi* player John Kaizan Neptune\, Darrell Grant on piano\, Todd Strait on drums and Dennis Caiazaa on bass. \n*Bamboo Flute
URL:https://www.peterzisa.com/performance/concert/
LOCATION:Marylhurst University\, 17600 Pacific Highway (Hwy 43)\, Marylhurst\, 97036\, United States
CATEGORIES:Peter Joseph Zisa
END:VEVENT
BEGIN:VEVENT
DTSTART;TZID=America/Vancouver:20091001T180000
DTEND;TZID=America/Vancouver:20091001T210000
DTSTAMP:20260424T041041
CREATED:20160413T191944Z
LAST-MODIFIED:20160413T191944Z
UID:1196-1254420000-1254430800@www.peterzisa.com
SUMMARY:First Thursday
DESCRIPTION:
URL:https://www.peterzisa.com/performance/first-thursday-24/
LOCATION:Lawrence Gallery\, 903 NW Davis Street\, Portland\, OR\, 97209\, United States
CATEGORIES:Peter Joseph Zisa
END:VEVENT
BEGIN:VEVENT
DTSTART;TZID=America/Vancouver:20090903T180000
DTEND;TZID=America/Vancouver:20090903T210000
DTSTAMP:20260424T041041
CREATED:20160413T191904Z
LAST-MODIFIED:20160413T191904Z
UID:1195-1252000800-1252011600@www.peterzisa.com
SUMMARY:First Thursday
DESCRIPTION:
URL:https://www.peterzisa.com/performance/first-thursday-23/
LOCATION:Lawrence Gallery\, 903 NW Davis Street\, Portland\, OR\, 97209\, United States
CATEGORIES:Peter Joseph Zisa
END:VEVENT
BEGIN:VEVENT
DTSTART;TZID=America/Vancouver:20090806T180000
DTEND;TZID=America/Vancouver:20090806T210000
DTSTAMP:20260424T041041
CREATED:20160413T191627Z
LAST-MODIFIED:20160413T191627Z
UID:1193-1249581600-1249592400@www.peterzisa.com
SUMMARY:First Thursday
DESCRIPTION:
URL:https://www.peterzisa.com/performance/first-thursday-22/
LOCATION:Lawrence Gallery\, 903 NW Davis Street\, Portland\, OR\, 97209\, United States
CATEGORIES:Peter Joseph Zisa
END:VEVENT
BEGIN:VEVENT
DTSTART;TZID=America/Vancouver:20090806T180000
DTEND;TZID=America/Vancouver:20090806T200000
DTSTAMP:20260424T041041
CREATED:20160413T191810Z
LAST-MODIFIED:20160413T191818Z
UID:1194-1249581600-1249588800@www.peterzisa.com
SUMMARY:Hiroshima and Nagasaki Memorial
DESCRIPTION:Thousand Waves performance featuring Peter Zisa\, LeeAnn Sterling on flute and Yukiko Vossen on koto.
URL:https://www.peterzisa.com/performance/hiroshima-and-nagasaki-memorial/
LOCATION:Waterfront Park\, Naito Pkwy\, Portland\, OR\, 97201\, United States
CATEGORIES:Peter Joseph Zisa
END:VEVENT
BEGIN:VEVENT
DTSTART;VALUE=DATE:20090606
DTEND;VALUE=DATE:20090607
DTSTAMP:20260424T041041
CREATED:20160413T191515Z
LAST-MODIFIED:20160413T191515Z
UID:1192-1244246400-1244332799@www.peterzisa.com
SUMMARY:Portland Classic Guitar Concert Series
DESCRIPTION:Performance Time TBD
URL:https://www.peterzisa.com/performance/portland-classic-guitar-concert-series/
LOCATION:Portland Classic Guitar\, 18605 Willamette Drive\, West Linn\, OR\, 97068\, United States
CATEGORIES:Peter Joseph Zisa
END:VEVENT
BEGIN:VEVENT
DTSTART;TZID=America/Vancouver:20090604T180000
DTEND;TZID=America/Vancouver:20090604T210000
DTSTAMP:20260424T041041
CREATED:20160413T191424Z
LAST-MODIFIED:20160413T191424Z
UID:1191-1244138400-1244149200@www.peterzisa.com
SUMMARY:First Thursday
DESCRIPTION:
URL:https://www.peterzisa.com/performance/first-thursday-21/
LOCATION:Lawrence Gallery\, 903 NW Davis Street\, Portland\, OR\, 97209\, United States
CATEGORIES:Peter Joseph Zisa
END:VEVENT
BEGIN:VEVENT
DTSTART;TZID=America/Vancouver:20090513T150000
DTEND;TZID=America/Vancouver:20090513T160000
DTSTAMP:20260424T041041
CREATED:20160413T191342Z
LAST-MODIFIED:20160413T191342Z
UID:1190-1242226800-1242230400@www.peterzisa.com
SUMMARY:Art Beat
DESCRIPTION:Featuring the Oregon Guitar Quartet and the premiere performance of “Fore” by Bryan Johanson.
URL:https://www.peterzisa.com/performance/art-beat-2/
LOCATION:Portland Community College: Rock Creek Campus\, 17705 NW Springville Rd.\, Portland\, OR\, 97229\, United States
CATEGORIES:Peter Joseph Zisa
END:VEVENT
BEGIN:VEVENT
DTSTART;TZID=America/Vancouver:20090511T150000
DTEND;TZID=America/Vancouver:20090511T160000
DTSTAMP:20260424T041041
CREATED:20160413T191254Z
LAST-MODIFIED:20160413T191254Z
UID:1189-1242054000-1242057600@www.peterzisa.com
SUMMARY:Art Beat
DESCRIPTION:Premier Performance of Bryan Johanson’s composition “Fore” written for the Oregon Guitar Quartet.
URL:https://www.peterzisa.com/performance/art-beat/
LOCATION:Portland Community College: Rock Creek Campus\, 17705 NW Springville Rd.\, Portland\, OR\, 97229\, United States
CATEGORIES:Peter Joseph Zisa
END:VEVENT
BEGIN:VEVENT
DTSTART;TZID=America/Vancouver:20090507T180000
DTEND;TZID=America/Vancouver:20090507T210000
DTSTAMP:20260424T041041
CREATED:20160413T191031Z
LAST-MODIFIED:20160413T191031Z
UID:1187-1241719200-1241730000@www.peterzisa.com
SUMMARY:First Thursday
DESCRIPTION:
URL:https://www.peterzisa.com/performance/first-thursday-20/
LOCATION:Lawrence Gallery\, 903 NW Davis Street\, Portland\, OR\, 97209\, United States
CATEGORIES:Peter Joseph Zisa
END:VEVENT
BEGIN:VEVENT
DTSTART;TZID=America/Vancouver:20090507T110000
DTEND;TZID=America/Vancouver:20090507T130000
DTSTAMP:20260424T041041
CREATED:20160413T191125Z
LAST-MODIFIED:20160413T191125Z
UID:1188-1241694000-1241701200@www.peterzisa.com
SUMMARY:OHSU Doernbecher Foundation
DESCRIPTION:
URL:https://www.peterzisa.com/performance/ohsu-doernbecher-foundation/
LOCATION:Waverly Country Club\, 1100 SE Waverly Drive\, Milwaukie\, OR\, 97222\, United States
CATEGORIES:Peter Joseph Zisa
END:VEVENT
BEGIN:VEVENT
DTSTART;TZID=America/Vancouver:20090408T151500
DTEND;TZID=America/Vancouver:20090408T170000
DTSTAMP:20260424T041041
CREATED:20160413T190933Z
LAST-MODIFIED:20160413T190939Z
UID:1186-1239203700-1239210000@www.peterzisa.com
SUMMARY:Spring Concert
DESCRIPTION:With special guest artists Yukiko Vossen on koto and LeeAnn Sterling on flute.
URL:https://www.peterzisa.com/performance/spring-concert/
LOCATION:Mt. Hood Community College\, 26000 SE Stark Street\, Gresham\, OR\, 97030\, United States
CATEGORIES:Peter Joseph Zisa
END:VEVENT
BEGIN:VEVENT
DTSTART;TZID=America/Vancouver:20090404T144500
DTEND;TZID=America/Vancouver:20090404T160000
DTSTAMP:20260424T041041
CREATED:20160413T190728Z
LAST-MODIFIED:20160413T190812Z
UID:1184-1238856300-1238860800@www.peterzisa.com
SUMMARY:Kick Off in Bend
DESCRIPTION:With special guest artists Yukiko Vossen on koto and Alton Chung\, story teller.
URL:https://www.peterzisa.com/performance/kick-off-in-bend/
LOCATION:Deschutes Library – Downtown Bend\, 601 N.W. Wall Street\, Bend\, OR\, 97703\, United States
CATEGORIES:Peter Joseph Zisa
END:VEVENT
BEGIN:VEVENT
DTSTART;TZID=America/Vancouver:20090402T180000
DTEND;TZID=America/Vancouver:20090402T210000
DTSTAMP:20260424T041041
CREATED:20160413T190623Z
LAST-MODIFIED:20160413T190623Z
UID:1183-1238695200-1238706000@www.peterzisa.com
SUMMARY:First Thursday
DESCRIPTION:
URL:https://www.peterzisa.com/performance/first-thursday-19/
LOCATION:Lawrence Gallery\, 903 NW Davis Street\, Portland\, OR\, 97209\, United States
CATEGORIES:Peter Joseph Zisa
END:VEVENT
BEGIN:VEVENT
DTSTART;TZID=America/Vancouver:20090307T160000
DTEND;TZID=America/Vancouver:20090307T170000
DTSTAMP:20260424T041041
CREATED:20160413T190531Z
LAST-MODIFIED:20160413T190531Z
UID:1182-1236441600-1236445200@www.peterzisa.com
SUMMARY:Performance/Master Class
DESCRIPTION:
URL:https://www.peterzisa.com/performance/performancemaster-class/
LOCATION:Lewis and Clark College\, 0615 S.W. Palatine Hill Road\, Portland\, OR\, 97219\, United States
CATEGORIES:Peter Joseph Zisa
END:VEVENT
BEGIN:VEVENT
DTSTART;TZID=America/Vancouver:20090305T180000
DTEND;TZID=America/Vancouver:20090305T210000
DTSTAMP:20260424T041041
CREATED:20160413T190402Z
LAST-MODIFIED:20160413T190402Z
UID:1181-1236276000-1236286800@www.peterzisa.com
SUMMARY:First Thursday
DESCRIPTION:
URL:https://www.peterzisa.com/performance/first-thursday-18/
LOCATION:Lawrence Gallery\, 903 NW Davis Street\, Portland\, OR\, 97209\, United States
CATEGORIES:Peter Joseph Zisa
END:VEVENT
BEGIN:VEVENT
DTSTART;TZID=America/Vancouver:20090227T180000
DTEND;TZID=America/Vancouver:20090227T200000
DTSTAMP:20260424T041041
CREATED:20160413T190311Z
LAST-MODIFIED:20160413T190311Z
UID:1180-1235757600-1235764800@www.peterzisa.com
SUMMARY:Oregon Independent College Foundation
DESCRIPTION:
URL:https://www.peterzisa.com/performance/oregon-independent-college-foundation/
LOCATION:Winningstad Theater\, 1111 SW Broadway Ave.\, Portland\, OR\, 97205\, United States
CATEGORIES:Peter Joseph Zisa
END:VEVENT
BEGIN:VEVENT
DTSTART;TZID=America/Vancouver:20090222T180000
DTEND;TZID=America/Vancouver:20090222T200000
DTSTAMP:20260424T041041
CREATED:20160413T190051Z
LAST-MODIFIED:20160413T190051Z
UID:1178-1235325600-1235332800@www.peterzisa.com
SUMMARY:Poetry and Storytelling
DESCRIPTION:Peter performs with guest artist Yukiko Vossen.
URL:https://www.peterzisa.com/performance/poetry-and-storytelling/
LOCATION:Moonstruck Chocolate Cafe\, 11705 SW Beaverton Hillsdale Hwy\, Beaverton\, OR\, 97005\, United States
CATEGORIES:Peter Joseph Zisa
END:VEVENT
BEGIN:VEVENT
DTSTART;TZID=America/Vancouver:20090222T160000
DTEND;TZID=America/Vancouver:20090222T180000
DTSTAMP:20260424T041041
CREATED:20160413T190156Z
LAST-MODIFIED:20160413T190156Z
UID:1179-1235318400-1235325600@www.peterzisa.com
SUMMARY:Oregon Guitar Quartet performs Vivaldi Concerto
DESCRIPTION:Oregon Guitar Quartet performs Vivaldi Concerto with Marylhurst Symphony at Marylhurst University in St. Anne’s Chapel.
URL:https://www.peterzisa.com/performance/oregon-guitar-quartet-performs-vivaldi-concerto/
LOCATION:Marylhurst University\, 17600 Pacific Highway (Hwy 43)\, Marylhurst\, 97036\, United States
CATEGORIES:Peter Joseph Zisa
END:VEVENT
BEGIN:VEVENT
DTSTART;TZID=America/Vancouver:20090207T150000
DTEND;TZID=America/Vancouver:20090207T170000
DTSTAMP:20260424T041041
CREATED:20160413T185930Z
LAST-MODIFIED:20160413T185937Z
UID:1177-1234018800-1234026000@www.peterzisa.com
SUMMARY:Valentine and CD release concert event
DESCRIPTION:Peter Zisa and friends featuring Elizabeth Eklund\, mezzo-soprano\, LeeAnn Sterling on flute\, and Yukiko Vossen on koto. This performance will be held in beautiful historic First Christian Church on SW Park and Columbia across from the Portland Art Museum.
URL:https://www.peterzisa.com/performance/valentine-and-cd-release-concert-event/
LOCATION:First Christian Church\, 1314 SW Park Ave\, Portland\, OR\, 97201\, United States
CATEGORIES:Peter Joseph Zisa
END:VEVENT
BEGIN:VEVENT
DTSTART;TZID=America/Vancouver:20090205T180000
DTEND;TZID=America/Vancouver:20090205T210000
DTSTAMP:20260424T041041
CREATED:20160413T185651Z
LAST-MODIFIED:20160413T185651Z
UID:1176-1233856800-1233867600@www.peterzisa.com
SUMMARY:First Thursday
DESCRIPTION:
URL:https://www.peterzisa.com/performance/first-thursday-17/
LOCATION:Lawrence Gallery\, 903 NW Davis Street\, Portland\, OR\, 97209\, United States
CATEGORIES:Peter Joseph Zisa
END:VEVENT
BEGIN:VEVENT
DTSTART;TZID=America/Vancouver:20090204T013000
DTEND;TZID=America/Vancouver:20160413T150000
DTSTAMP:20260424T041041
CREATED:20160413T185506Z
LAST-MODIFIED:20160413T185723Z
UID:1175-1233711000-1460559600@www.peterzisa.com
SUMMARY:West Meets East
DESCRIPTION:Concert will be held in Building #3 of The Rock Creek campus of Portland Community College. Lecture/Performance of music for koto\, guitar and flute featuring Yukio Vossen on koto and LeeAnn Sterling on flute.
URL:https://www.peterzisa.com/performance/west-meets-east-5/
LOCATION:Portland Community College: Rock Creek Campus\, 17705 NW Springville Rd.\, Portland\, OR\, 97229\, United States
CATEGORIES:Peter Joseph Zisa
END:VEVENT
BEGIN:VEVENT
DTSTART;TZID=America/Vancouver:20090117T150000
DTEND;TZID=America/Vancouver:20090117T170000
DTSTAMP:20260424T041041
CREATED:20160413T185335Z
LAST-MODIFIED:20160413T185706Z
UID:1174-1232204400-1232211600@www.peterzisa.com
SUMMARY:Mochitsuki Celebration
DESCRIPTION:With guest artists Yukio Vossen.
URL:https://www.peterzisa.com/performance/mochitsuki-celebration/
LOCATION:Portland Community College: Rock Creek Campus\, 17705 NW Springville Rd.\, Portland\, OR\, 97229\, United States
CATEGORIES:Peter Joseph Zisa
END:VEVENT
BEGIN:VEVENT
DTSTART;TZID=America/Vancouver:20090108T180000
DTEND;TZID=America/Vancouver:20090108T210000
DTSTAMP:20260424T041041
CREATED:20160408T183518Z
LAST-MODIFIED:20160408T183518Z
UID:1172-1231437600-1231448400@www.peterzisa.com
SUMMARY:First Thursday
DESCRIPTION:
URL:https://www.peterzisa.com/performance/first-thursday-16/
LOCATION:Lawrence Gallery\, 903 NW Davis Street\, Portland\, OR\, 97209\, United States
CATEGORIES:Peter Joseph Zisa
END:VEVENT
BEGIN:VEVENT
DTSTART;TZID=America/Vancouver:20081206T193000
DTEND;TZID=America/Vancouver:20081206T213000
DTSTAMP:20260424T041041
CREATED:20160408T183419Z
LAST-MODIFIED:20160408T183419Z
UID:1171-1228591800-1228599000@www.peterzisa.com
SUMMARY:Season of Lights
DESCRIPTION:Peter Zisa returns for a second year to host a seasonal gala event aptly named the “Season of Lights”. Performing with Peter this year are Kenny Polson\, Elizabeth Ekland\, LeeAnn Sterling\, Yukiko Vossen and the Cascade College Choir.
URL:https://www.peterzisa.com/performance/season-of-lights-2/
LOCATION:The Old Church\, 1422 SW 11th Ave\, Portland\, OR\, 97201\, United States
CATEGORIES:Peter Joseph Zisa
END:VEVENT
BEGIN:VEVENT
DTSTART;TZID=America/Vancouver:20081204T180000
DTEND;TZID=America/Vancouver:20081204T210000
DTSTAMP:20260424T041041
CREATED:20160408T183308Z
LAST-MODIFIED:20160408T183308Z
UID:1170-1228413600-1228424400@www.peterzisa.com
SUMMARY:First Thursday
DESCRIPTION:
URL:https://www.peterzisa.com/performance/first-thursday-15/
LOCATION:Lawrence Gallery\, 903 NW Davis Street\, Portland\, OR\, 97209\, United States
CATEGORIES:Peter Joseph Zisa
END:VEVENT
BEGIN:VEVENT
DTSTART;TZID=America/Vancouver:20081203T043000
DTEND;TZID=America/Vancouver:20081203T190000
DTSTAMP:20260424T041041
CREATED:20160408T183132Z
LAST-MODIFIED:20160408T183132Z
UID:1169-1228278600-1228330800@www.peterzisa.com
SUMMARY:West Meets East
DESCRIPTION:With guest artist Yukiko Vossen on Koto.
URL:https://www.peterzisa.com/performance/west-meets-east-4/
LOCATION:Lan Su Garden (Portland Chinese Gardens)\, 239 NW Everett Street\, Portland\, OR\, 97209\, United States
CATEGORIES:Peter Joseph Zisa
END:VEVENT
END:VCALENDAR