BEGIN:VCALENDAR
VERSION:2.0
PRODID:-//Dr. Peter Joseph Zisa - ECPv6.15.3//NONSGML v1.0//EN
CALSCALE:GREGORIAN
METHOD:PUBLISH
X-ORIGINAL-URL:https://www.peterzisa.com
X-WR-CALDESC:Events for Dr. Peter Joseph Zisa
REFRESH-INTERVAL;VALUE=DURATION:PT1H
X-Robots-Tag:noindex
X-PUBLISHED-TTL:PT1H
BEGIN:VTIMEZONE
TZID:America/Vancouver
BEGIN:DAYLIGHT
TZOFFSETFROM:-0800
TZOFFSETTO:-0700
TZNAME:PDT
DTSTART:20080309T100000
END:DAYLIGHT
BEGIN:STANDARD
TZOFFSETFROM:-0700
TZOFFSETTO:-0800
TZNAME:PST
DTSTART:20081102T090000
END:STANDARD
BEGIN:DAYLIGHT
TZOFFSETFROM:-0800
TZOFFSETTO:-0700
TZNAME:PDT
DTSTART:20090308T100000
END:DAYLIGHT
BEGIN:STANDARD
TZOFFSETFROM:-0700
TZOFFSETTO:-0800
TZNAME:PST
DTSTART:20091101T090000
END:STANDARD
BEGIN:DAYLIGHT
TZOFFSETFROM:-0800
TZOFFSETTO:-0700
TZNAME:PDT
DTSTART:20100314T100000
END:DAYLIGHT
BEGIN:STANDARD
TZOFFSETFROM:-0700
TZOFFSETTO:-0800
TZNAME:PST
DTSTART:20101107T090000
END:STANDARD
BEGIN:DAYLIGHT
TZOFFSETFROM:-0800
TZOFFSETTO:-0700
TZNAME:PDT
DTSTART:20110313T100000
END:DAYLIGHT
BEGIN:STANDARD
TZOFFSETFROM:-0700
TZOFFSETTO:-0800
TZNAME:PST
DTSTART:20111106T090000
END:STANDARD
BEGIN:DAYLIGHT
TZOFFSETFROM:-0800
TZOFFSETTO:-0700
TZNAME:PDT
DTSTART:20120311T100000
END:DAYLIGHT
BEGIN:STANDARD
TZOFFSETFROM:-0700
TZOFFSETTO:-0800
TZNAME:PST
DTSTART:20121104T090000
END:STANDARD
BEGIN:DAYLIGHT
TZOFFSETFROM:-0800
TZOFFSETTO:-0700
TZNAME:PDT
DTSTART:20130310T100000
END:DAYLIGHT
BEGIN:STANDARD
TZOFFSETFROM:-0700
TZOFFSETTO:-0800
TZNAME:PST
DTSTART:20131103T090000
END:STANDARD
BEGIN:DAYLIGHT
TZOFFSETFROM:-0800
TZOFFSETTO:-0700
TZNAME:PDT
DTSTART:20140309T100000
END:DAYLIGHT
BEGIN:STANDARD
TZOFFSETFROM:-0700
TZOFFSETTO:-0800
TZNAME:PST
DTSTART:20141102T090000
END:STANDARD
BEGIN:DAYLIGHT
TZOFFSETFROM:-0800
TZOFFSETTO:-0700
TZNAME:PDT
DTSTART:20150308T100000
END:DAYLIGHT
BEGIN:STANDARD
TZOFFSETFROM:-0700
TZOFFSETTO:-0800
TZNAME:PST
DTSTART:20151101T090000
END:STANDARD
BEGIN:DAYLIGHT
TZOFFSETFROM:-0800
TZOFFSETTO:-0700
TZNAME:PDT
DTSTART:20160313T100000
END:DAYLIGHT
BEGIN:STANDARD
TZOFFSETFROM:-0700
TZOFFSETTO:-0800
TZNAME:PST
DTSTART:20161106T090000
END:STANDARD
END:VTIMEZONE
BEGIN:VEVENT
DTSTART;TZID=America/Vancouver:20090222T180000
DTEND;TZID=America/Vancouver:20090222T200000
DTSTAMP:20260424T065943
CREATED:20160413T190051Z
LAST-MODIFIED:20160413T190051Z
UID:1178-1235325600-1235332800@www.peterzisa.com
SUMMARY:Poetry and Storytelling
DESCRIPTION:Peter performs with guest artist Yukiko Vossen.
URL:https://www.peterzisa.com/performance/poetry-and-storytelling/
LOCATION:Moonstruck Chocolate Cafe\, 11705 SW Beaverton Hillsdale Hwy\, Beaverton\, OR\, 97005\, United States
CATEGORIES:Peter Joseph Zisa
END:VEVENT
BEGIN:VEVENT
DTSTART;TZID=America/Vancouver:20090222T160000
DTEND;TZID=America/Vancouver:20090222T180000
DTSTAMP:20260424T065943
CREATED:20160413T190156Z
LAST-MODIFIED:20160413T190156Z
UID:1179-1235318400-1235325600@www.peterzisa.com
SUMMARY:Oregon Guitar Quartet performs Vivaldi Concerto
DESCRIPTION:Oregon Guitar Quartet performs Vivaldi Concerto with Marylhurst Symphony at Marylhurst University in St. Anne’s Chapel.
URL:https://www.peterzisa.com/performance/oregon-guitar-quartet-performs-vivaldi-concerto/
LOCATION:Marylhurst University\, 17600 Pacific Highway (Hwy 43)\, Marylhurst\, 97036\, United States
CATEGORIES:Peter Joseph Zisa
END:VEVENT
BEGIN:VEVENT
DTSTART;TZID=America/Vancouver:20090207T150000
DTEND;TZID=America/Vancouver:20090207T170000
DTSTAMP:20260424T065943
CREATED:20160413T185930Z
LAST-MODIFIED:20160413T185937Z
UID:1177-1234018800-1234026000@www.peterzisa.com
SUMMARY:Valentine and CD release concert event
DESCRIPTION:Peter Zisa and friends featuring Elizabeth Eklund\, mezzo-soprano\, LeeAnn Sterling on flute\, and Yukiko Vossen on koto. This performance will be held in beautiful historic First Christian Church on SW Park and Columbia across from the Portland Art Museum.
URL:https://www.peterzisa.com/performance/valentine-and-cd-release-concert-event/
LOCATION:First Christian Church\, 1314 SW Park Ave\, Portland\, OR\, 97201\, United States
CATEGORIES:Peter Joseph Zisa
END:VEVENT
BEGIN:VEVENT
DTSTART;TZID=America/Vancouver:20090205T180000
DTEND;TZID=America/Vancouver:20090205T210000
DTSTAMP:20260424T065943
CREATED:20160413T185651Z
LAST-MODIFIED:20160413T185651Z
UID:1176-1233856800-1233867600@www.peterzisa.com
SUMMARY:First Thursday
DESCRIPTION:
URL:https://www.peterzisa.com/performance/first-thursday-17/
LOCATION:Lawrence Gallery\, 903 NW Davis Street\, Portland\, OR\, 97209\, United States
CATEGORIES:Peter Joseph Zisa
END:VEVENT
BEGIN:VEVENT
DTSTART;TZID=America/Vancouver:20090204T013000
DTEND;TZID=America/Vancouver:20160413T150000
DTSTAMP:20260424T065943
CREATED:20160413T185506Z
LAST-MODIFIED:20160413T185723Z
UID:1175-1233711000-1460559600@www.peterzisa.com
SUMMARY:West Meets East
DESCRIPTION:Concert will be held in Building #3 of The Rock Creek campus of Portland Community College. Lecture/Performance of music for koto\, guitar and flute featuring Yukio Vossen on koto and LeeAnn Sterling on flute.
URL:https://www.peterzisa.com/performance/west-meets-east-5/
LOCATION:Portland Community College: Rock Creek Campus\, 17705 NW Springville Rd.\, Portland\, OR\, 97229\, United States
CATEGORIES:Peter Joseph Zisa
END:VEVENT
BEGIN:VEVENT
DTSTART;TZID=America/Vancouver:20090117T150000
DTEND;TZID=America/Vancouver:20090117T170000
DTSTAMP:20260424T065943
CREATED:20160413T185335Z
LAST-MODIFIED:20160413T185706Z
UID:1174-1232204400-1232211600@www.peterzisa.com
SUMMARY:Mochitsuki Celebration
DESCRIPTION:With guest artists Yukio Vossen.
URL:https://www.peterzisa.com/performance/mochitsuki-celebration/
LOCATION:Portland Community College: Rock Creek Campus\, 17705 NW Springville Rd.\, Portland\, OR\, 97229\, United States
CATEGORIES:Peter Joseph Zisa
END:VEVENT
BEGIN:VEVENT
DTSTART;TZID=America/Vancouver:20090108T180000
DTEND;TZID=America/Vancouver:20090108T210000
DTSTAMP:20260424T065943
CREATED:20160408T183518Z
LAST-MODIFIED:20160408T183518Z
UID:1172-1231437600-1231448400@www.peterzisa.com
SUMMARY:First Thursday
DESCRIPTION:
URL:https://www.peterzisa.com/performance/first-thursday-16/
LOCATION:Lawrence Gallery\, 903 NW Davis Street\, Portland\, OR\, 97209\, United States
CATEGORIES:Peter Joseph Zisa
END:VEVENT
BEGIN:VEVENT
DTSTART;TZID=America/Vancouver:20081206T193000
DTEND;TZID=America/Vancouver:20081206T213000
DTSTAMP:20260424T065943
CREATED:20160408T183419Z
LAST-MODIFIED:20160408T183419Z
UID:1171-1228591800-1228599000@www.peterzisa.com
SUMMARY:Season of Lights
DESCRIPTION:Peter Zisa returns for a second year to host a seasonal gala event aptly named the “Season of Lights”. Performing with Peter this year are Kenny Polson\, Elizabeth Ekland\, LeeAnn Sterling\, Yukiko Vossen and the Cascade College Choir.
URL:https://www.peterzisa.com/performance/season-of-lights-2/
LOCATION:The Old Church\, 1422 SW 11th Ave\, Portland\, OR\, 97201\, United States
CATEGORIES:Peter Joseph Zisa
END:VEVENT
BEGIN:VEVENT
DTSTART;TZID=America/Vancouver:20081204T180000
DTEND;TZID=America/Vancouver:20081204T210000
DTSTAMP:20260424T065943
CREATED:20160408T183308Z
LAST-MODIFIED:20160408T183308Z
UID:1170-1228413600-1228424400@www.peterzisa.com
SUMMARY:First Thursday
DESCRIPTION:
URL:https://www.peterzisa.com/performance/first-thursday-15/
LOCATION:Lawrence Gallery\, 903 NW Davis Street\, Portland\, OR\, 97209\, United States
CATEGORIES:Peter Joseph Zisa
END:VEVENT
BEGIN:VEVENT
DTSTART;TZID=America/Vancouver:20081203T043000
DTEND;TZID=America/Vancouver:20081203T190000
DTSTAMP:20260424T065943
CREATED:20160408T183132Z
LAST-MODIFIED:20160408T183132Z
UID:1169-1228278600-1228330800@www.peterzisa.com
SUMMARY:West Meets East
DESCRIPTION:With guest artist Yukiko Vossen on Koto.
URL:https://www.peterzisa.com/performance/west-meets-east-4/
LOCATION:Lan Su Garden (Portland Chinese Gardens)\, 239 NW Everett Street\, Portland\, OR\, 97209\, United States
CATEGORIES:Peter Joseph Zisa
END:VEVENT
BEGIN:VEVENT
DTSTART;TZID=America/Vancouver:20081111T160000
DTEND;TZID=America/Vancouver:20081111T190000
DTSTAMP:20260424T065943
CREATED:20160408T182756Z
LAST-MODIFIED:20160408T183155Z
UID:1168-1226419200-1226430000@www.peterzisa.com
SUMMARY:Oregon Health and Sciences University Foundation
DESCRIPTION:
URL:https://www.peterzisa.com/performance/oregon-health-and-sciences-university-foundation/
LOCATION:The Sentinel Hotel\, 614 SW 11th Avenue\, Portland\, OR\, 97205\, United States
CATEGORIES:Peter Joseph Zisa
END:VEVENT
BEGIN:VEVENT
DTSTART;TZID=America/Vancouver:20081107T190000
DTEND;TZID=America/Vancouver:20081107T210000
DTSTAMP:20260424T065943
CREATED:20160408T182631Z
LAST-MODIFIED:20160408T182631Z
UID:1167-1226084400-1226091600@www.peterzisa.com
SUMMARY:Oregon Guitar Quartet
DESCRIPTION:
URL:https://www.peterzisa.com/performance/oregon-guitar-quartet-2/
LOCATION:Marylhurst University\, 17600 Pacific Highway (Hwy 43)\, Marylhurst\, 97036\, United States
CATEGORIES:Peter Joseph Zisa
END:VEVENT
BEGIN:VEVENT
DTSTART;TZID=America/Vancouver:20081106T180000
DTEND;TZID=America/Vancouver:20081106T210000
DTSTAMP:20260424T065943
CREATED:20160408T182442Z
LAST-MODIFIED:20160408T182442Z
UID:1165-1225994400-1226005200@www.peterzisa.com
SUMMARY:First Thursday
DESCRIPTION:
URL:https://www.peterzisa.com/performance/first-thursday-14/
LOCATION:Lawrence Gallery\, 903 NW Davis Street\, Portland\, OR\, 97209\, United States
CATEGORIES:Peter Joseph Zisa
END:VEVENT
BEGIN:VEVENT
DTSTART;TZID=America/Vancouver:20081105T173000
DTEND;TZID=America/Vancouver:20081105T190000
DTSTAMP:20260424T065943
CREATED:20160408T182351Z
LAST-MODIFIED:20160408T182351Z
UID:1164-1225906200-1225911600@www.peterzisa.com
SUMMARY:Classical Guitar with Peter Zisa
DESCRIPTION:Featuring guest artists Elizabeth Ekland and LeeAnn Sterling.
URL:https://www.peterzisa.com/performance/classical-guitar-with-peter-zisa-7/
LOCATION:The Old Church\, 1422 SW 11th Ave\, Portland\, OR\, 97201\, United States
CATEGORIES:Peter Joseph Zisa
END:VEVENT
BEGIN:VEVENT
DTSTART;TZID=America/Vancouver:20081025T173000
DTEND;TZID=America/Vancouver:20081025T190000
DTSTAMP:20260424T065943
CREATED:20160408T182210Z
LAST-MODIFIED:20160408T182210Z
UID:1163-1224955800-1224961200@www.peterzisa.com
SUMMARY:West Meets East Scholarship Concert
DESCRIPTION:Peter Zisa hosts this concert featuring guest artists Yukiko Vossen\, Anna Rapp and LeeAnn Sterling.
URL:https://www.peterzisa.com/performance/west-meets-east-scholarship-concert/
LOCATION:Marylhurst University\, 17600 Pacific Highway (Hwy 43)\, Marylhurst\, 97036\, United States
CATEGORIES:Peter Joseph Zisa
END:VEVENT
BEGIN:VEVENT
DTSTART;TZID=America/Vancouver:20081018T180000
DTEND;TZID=America/Vancouver:20081018T200000
DTSTAMP:20260424T065943
CREATED:20160408T181947Z
LAST-MODIFIED:20160408T182541Z
UID:1162-1224352800-1224360000@www.peterzisa.com
SUMMARY:Oregon Guitar Quartet
DESCRIPTION:
URL:https://www.peterzisa.com/performance/oregon-guitar-quartet/
LOCATION:Portland State University\, 1825 SW Broadway Street\, Portland\, OR\, 97207\, United States
CATEGORIES:Peter Joseph Zisa
END:VEVENT
BEGIN:VEVENT
DTSTART;TZID=America/Vancouver:20081002T180000
DTEND;TZID=America/Vancouver:20081002T210000
DTSTAMP:20260424T065943
CREATED:20160408T181821Z
LAST-MODIFIED:20160408T181821Z
UID:1161-1222970400-1222981200@www.peterzisa.com
SUMMARY:First Thursday
DESCRIPTION:
URL:https://www.peterzisa.com/performance/first-thursday-13/
LOCATION:Lawrence Gallery\, 903 NW Davis Street\, Portland\, OR\, 97209\, United States
CATEGORIES:Peter Joseph Zisa
END:VEVENT
BEGIN:VEVENT
DTSTART;TZID=America/Vancouver:20080917T150000
DTEND;TZID=America/Vancouver:20080917T163000
DTSTAMP:20260424T065943
CREATED:20160408T181121Z
LAST-MODIFIED:20160408T181121Z
UID:1160-1221663600-1221669000@www.peterzisa.com
SUMMARY:West Meets East
DESCRIPTION:Performance with guest artist Yukio Vossen on koto.
URL:https://www.peterzisa.com/performance/west-meets-east-3/
LOCATION:Lan Su Garden (Portland Chinese Gardens)\, 239 NW Everett Street\, Portland\, OR\, 97209\, United States
CATEGORIES:Peter Joseph Zisa
END:VEVENT
BEGIN:VEVENT
DTSTART;VALUE=DATE:20080915
DTEND;VALUE=DATE:20080916
DTSTAMP:20260424T065943
CREATED:20160408T180742Z
LAST-MODIFIED:20160408T180835Z
UID:1159-1221436800-1221523199@www.peterzisa.com
SUMMARY:Classical Guitar with Peter Zisa
DESCRIPTION:Performance Time TBD
URL:https://www.peterzisa.com/performance/classical-guitar-with-peter-zisa-6/
LOCATION:Cleveland High School\, 3400 SE 26th Ave\, Portland\, OR\, 97202\, United States
CATEGORIES:Peter Joseph Zisa
END:VEVENT
BEGIN:VEVENT
DTSTART;TZID=America/Vancouver:20080904T180000
DTEND;TZID=America/Vancouver:20080904T210000
DTSTAMP:20260424T065943
CREATED:20160408T180524Z
LAST-MODIFIED:20160408T180524Z
UID:1158-1220551200-1220562000@www.peterzisa.com
SUMMARY:First Thursday
DESCRIPTION:
URL:https://www.peterzisa.com/performance/first-thursday-12/
LOCATION:Lawrence Gallery\, 903 NW Davis Street\, Portland\, OR\, 97209\, United States
CATEGORIES:Peter Joseph Zisa
END:VEVENT
BEGIN:VEVENT
DTSTART;TZID=America/Vancouver:20080807T180000
DTEND;TZID=America/Vancouver:20080807T210000
DTSTAMP:20260424T065943
CREATED:20160408T180231Z
LAST-MODIFIED:20160408T180231Z
UID:1157-1218132000-1218142800@www.peterzisa.com
SUMMARY:First Thursday
DESCRIPTION:
URL:https://www.peterzisa.com/performance/first-thursday-11/
LOCATION:Lawrence Gallery\, 903 NW Davis Street\, Portland\, OR\, 97209\, United States
CATEGORIES:Peter Joseph Zisa
END:VEVENT
BEGIN:VEVENT
DTSTART;TZID=America/Vancouver:20080703T180000
DTEND;TZID=America/Vancouver:20080703T210000
DTSTAMP:20260424T065943
CREATED:20160408T180133Z
LAST-MODIFIED:20160408T180133Z
UID:1156-1215108000-1215118800@www.peterzisa.com
SUMMARY:First Thursday
DESCRIPTION:
URL:https://www.peterzisa.com/performance/first-thursday-10/
LOCATION:Lawrence Gallery\, 903 NW Davis Street\, Portland\, OR\, 97209\, United States
CATEGORIES:Peter Joseph Zisa
END:VEVENT
BEGIN:VEVENT
DTSTART;VALUE=DATE:20080613
DTEND;VALUE=DATE:20080614
DTSTAMP:20260424T065943
CREATED:20160408T175140Z
LAST-MODIFIED:20160408T180011Z
UID:1153-1213315200-1213401599@www.peterzisa.com
SUMMARY:Guild of American Luthiers Convention
DESCRIPTION:Performance time TBD.
URL:https://www.peterzisa.com/performance/guild-of-american-luthiers-convention/
LOCATION:Pacific Lutheran University\, 12180 Park Avenue S.\, Tacoma\, WA\, 98447\, United States
CATEGORIES:Peter Joseph Zisa
END:VEVENT
BEGIN:VEVENT
DTSTART;TZID=America/Vancouver:20080606T140000
DTEND;TZID=America/Vancouver:20080606T153000
DTSTAMP:20260424T065943
CREATED:20160408T175002Z
LAST-MODIFIED:20160408T175012Z
UID:1152-1212760800-1212766200@www.peterzisa.com
SUMMARY:West Meets East
DESCRIPTION:With guest artist Yukiko Vossen on Koto.
URL:https://www.peterzisa.com/performance/west-meets-east-2/
LOCATION:Clark College\, 1933 Fort Vancouver Way\, Vancouver\, WA\, 98663\, United States
CATEGORIES:Peter Joseph Zisa
END:VEVENT
BEGIN:VEVENT
DTSTART;TZID=America/Vancouver:20080605T180000
DTEND;TZID=America/Vancouver:20080605T210000
DTSTAMP:20260424T065943
CREATED:20160408T173812Z
LAST-MODIFIED:20160408T173812Z
UID:1151-1212688800-1212699600@www.peterzisa.com
SUMMARY:First Thursday
DESCRIPTION:
URL:https://www.peterzisa.com/performance/first-thursday-9/
LOCATION:Lawrence Gallery\, 903 NW Davis Street\, Portland\, OR\, 97209\, United States
CATEGORIES:Peter Joseph Zisa
END:VEVENT
BEGIN:VEVENT
DTSTART;TZID=America/Vancouver:20080601T133000
DTEND;TZID=America/Vancouver:20080601T160000
DTSTAMP:20260424T065943
CREATED:20160408T172958Z
LAST-MODIFIED:20160408T174641Z
UID:1149-1212327000-1212336000@www.peterzisa.com
SUMMARY:China Earthquake Disaster Benefit Concert
DESCRIPTION:Peter Zisa performs with with Eric Xu and MYSfits Chamber Music Ensemble in a concert to benefit the victims of the earthquake in China’s Sichuan province. \nA number of very talented young musicians have banded together is a very short time in an effort to support the victims of the recent China earthquake disaster. With the addition of our featured performance group\, Metropolitan Youth Symphony’s renowned MYSfits Chamber Music Ensemble we now have a full program to present. \nDonations will be collected.
URL:https://www.peterzisa.com/performance/china-earthquake-disaster-benefit-concert/
LOCATION:The Old Church\, 1422 SW 11th Ave\, Portland\, OR\, 97201\, United States
CATEGORIES:Peter Joseph Zisa
END:VEVENT
BEGIN:VEVENT
DTSTART;TZID=America/Vancouver:20080501T180000
DTEND;TZID=America/Vancouver:20080501T210000
DTSTAMP:20260424T065943
CREATED:20160408T172817Z
LAST-MODIFIED:20160408T174606Z
UID:1148-1209664800-1209675600@www.peterzisa.com
SUMMARY:First Thursday
DESCRIPTION:
URL:https://www.peterzisa.com/performance/first-thursday-8/
LOCATION:Lawrence Gallery\, 903 NW Davis Street\, Portland\, OR\, 97209\, United States
CATEGORIES:Peter Joseph Zisa
END:VEVENT
BEGIN:VEVENT
DTSTART;TZID=America/Vancouver:20080430T130000
DTEND;TZID=America/Vancouver:20080430T143000
DTSTAMP:20260424T065943
CREATED:20160408T172553Z
LAST-MODIFIED:20160408T174547Z
UID:1146-1209560400-1209565800@www.peterzisa.com
SUMMARY:West Meets East
DESCRIPTION:Music of the Koto and the Guitar: lecture and performance with guest artist\, Yukiko Vossen. \nBuilding 3
URL:https://www.peterzisa.com/performance/west-meets-east/
LOCATION:Portland Community College: Rock Creek Campus\, 17705 NW Springville Rd.\, Portland\, OR\, 97229\, United States
CATEGORIES:Peter Joseph Zisa
END:VEVENT
BEGIN:VEVENT
DTSTART;TZID=America/Vancouver:20080427T140000
DTEND;TZID=America/Vancouver:20080427T160000
DTSTAMP:20260424T065943
CREATED:20160408T172335Z
LAST-MODIFIED:20160408T174521Z
UID:1145-1209304800-1209312000@www.peterzisa.com
SUMMARY:Classical Guitar with Peter Zisa
DESCRIPTION:
URL:https://www.peterzisa.com/performance/classical-guitar-with-peter-zisa-5/
LOCATION:Cascade College\, 9101 East Burnside Street\, Portland\, OR\, 97216\, United States
CATEGORIES:Peter Joseph Zisa
END:VEVENT
BEGIN:VEVENT
DTSTART;TZID=America/Vancouver:20080420T140000
DTEND;TZID=America/Vancouver:20080420T170000
DTSTAMP:20260424T065943
CREATED:20160408T172205Z
LAST-MODIFIED:20160408T174505Z
UID:1144-1208700000-1208710800@www.peterzisa.com
SUMMARY:Instrument Showcase
DESCRIPTION:
URL:https://www.peterzisa.com/performance/instrument-showcase-3/
LOCATION:Marylhurst University\, 17600 Pacific Highway (Hwy 43)\, Marylhurst\, 97036\, United States
CATEGORIES:Peter Joseph Zisa
END:VEVENT
END:VCALENDAR