BEGIN:VCALENDAR
VERSION:2.0
PRODID:-//Dr. Peter Joseph Zisa - ECPv6.15.3//NONSGML v1.0//EN
CALSCALE:GREGORIAN
METHOD:PUBLISH
X-ORIGINAL-URL:https://www.peterzisa.com
X-WR-CALDESC:Events for Dr. Peter Joseph Zisa
REFRESH-INTERVAL;VALUE=DURATION:PT1H
X-Robots-Tag:noindex
X-PUBLISHED-TTL:PT1H
BEGIN:VTIMEZONE
TZID:America/Vancouver
BEGIN:DAYLIGHT
TZOFFSETFROM:-0800
TZOFFSETTO:-0700
TZNAME:PDT
DTSTART:20180311T100000
END:DAYLIGHT
BEGIN:STANDARD
TZOFFSETFROM:-0700
TZOFFSETTO:-0800
TZNAME:PST
DTSTART:20181104T090000
END:STANDARD
BEGIN:DAYLIGHT
TZOFFSETFROM:-0800
TZOFFSETTO:-0700
TZNAME:PDT
DTSTART:20190310T100000
END:DAYLIGHT
BEGIN:STANDARD
TZOFFSETFROM:-0700
TZOFFSETTO:-0800
TZNAME:PST
DTSTART:20191103T090000
END:STANDARD
END:VTIMEZONE
BEGIN:VEVENT
DTSTART;VALUE=DATE:20190503
DTEND;VALUE=DATE:20190504
DTSTAMP:20260423T141320
CREATED:20190120T184848Z
LAST-MODIFIED:20190120T184848Z
UID:2378-1556841600-1556927999@www.peterzisa.com
SUMMARY:Peter Zisa at George Fox University
DESCRIPTION:
URL:https://www.peterzisa.com/performance/peter-zisa-at-george-fox-university/
LOCATION:George Fox University\, 414 N Meridian Street\, Newberg\, OR\, 97132\, United States
CATEGORIES:Peter Joseph Zisa
END:VEVENT
BEGIN:VEVENT
DTSTART;TZID=America/Vancouver:20190427T190000
DTEND;TZID=America/Vancouver:20190427T190000
DTSTAMP:20260423T141320
CREATED:20190426T195820Z
LAST-MODIFIED:20190426T195820Z
UID:2390-1556391600-1556391600@www.peterzisa.com
SUMMARY:Peter Zisa performs with Phoebe McRae
DESCRIPTION:Charity fundraising performance with Phoebe McRae. Along with solo works (by Sor\, Tarrega\, and Brower) and voice and guitar works by Handel\, Mozart\, Britten\, and Gershwin.
URL:https://www.peterzisa.com/performance/peter-zisa-performs-with-phoebe-mcrae/
LOCATION:OR
CATEGORIES:Peter Joseph Zisa
END:VEVENT
BEGIN:VEVENT
DTSTART;TZID=America/Vancouver:20190418T130000
DTEND;TZID=America/Vancouver:20190418T160000
DTSTAMP:20260423T141320
CREATED:20190426T195636Z
LAST-MODIFIED:20190426T195636Z
UID:2388-1555592400-1555603200@www.peterzisa.com
SUMMARY:Peter Zisa and Yukiko Vossen at Clark College
DESCRIPTION:Sakura Event at Clark College: two performances \nThe first performance was at 1:00 p.m. outdoor presentation at the Japanese Friendship Garden with Mayor Anne McEnerny Ogle\, Clark College President Bob Knight\, Japanese Consul General Takashi Teraoka\, and Clark College Japanese Scholarship recipient Kiho Takedoa. \nThe second performance was at 2:30 in the Gaiser Student Center; we did collaborative with Japanese calligraphy artist Sora Shodo.
URL:https://www.peterzisa.com/performance/peter-zisa-and-yukiko-vossen-at-clark-college/
LOCATION:Clark College\, 1933 Fort Vancouver Way\, Vancouver\, WA\, 98663\, United States
CATEGORIES:Peter Joseph Zisa
END:VEVENT
BEGIN:VEVENT
DTSTART;VALUE=DATE:20190321
DTEND;VALUE=DATE:20190322
DTSTAMP:20260423T141320
CREATED:20190113T215057Z
LAST-MODIFIED:20190426T194530Z
UID:2348-1553126400-1553212799@www.peterzisa.com
SUMMARY:Three Solo Performances in Japan
DESCRIPTION:
URL:https://www.peterzisa.com/performance/three-solo-performances-in-japan-2/
LOCATION:Casa de Music (Kitsuki City\, Japan)\, Kitsuki\, Japan
CATEGORIES:Peter Joseph Zisa
END:VEVENT
BEGIN:VEVENT
DTSTART;VALUE=DATE:20190316
DTEND;VALUE=DATE:20190317
DTSTAMP:20260423T141320
CREATED:20190113T215020Z
LAST-MODIFIED:20190113T215020Z
UID:2346-1552694400-1552780799@www.peterzisa.com
SUMMARY:Three Solo Performances in Japan
DESCRIPTION:
URL:https://www.peterzisa.com/performance/three-solo-performances-in-japan/
LOCATION:Charis Guitar (Tokyo\, Japan)\, Tokyo\, Japan
CATEGORIES:Peter Joseph Zisa
END:VEVENT
BEGIN:VEVENT
DTSTART;TZID=America/Vancouver:20190308T193000
DTEND;TZID=America/Vancouver:20190308T193000
DTSTAMP:20260423T141320
CREATED:20190113T214656Z
LAST-MODIFIED:20190113T214656Z
UID:2342-1552073400-1552073400@www.peterzisa.com
SUMMARY:Peter Zisa Solo Performance
DESCRIPTION:Solo Classical Guitar Program
URL:https://www.peterzisa.com/performance/peter-zisa-solo-performance-5/
LOCATION:Terwilliger Plaza\, 2545 SW Terwilliger Blvd.\, Portland\, OR\, 97201\, United States
CATEGORIES:Peter Joseph Zisa
END:VEVENT
BEGIN:VEVENT
DTSTART;TZID=America/Vancouver:20190209T193000
DTEND;TZID=America/Vancouver:20190209T193000
DTSTAMP:20260423T141320
CREATED:20190113T214229Z
LAST-MODIFIED:20190120T184603Z
UID:2335-1549740600-1549740600@www.peterzisa.com
SUMMARY:Peter Zisa with Phoebe MacRae
DESCRIPTION:Peter Zisa performs with Phoebe MacRae
URL:https://www.peterzisa.com/performance/peter-zisa-with-phoebe-macrae/
LOCATION:Private Event
CATEGORIES:Peter Joseph Zisa
END:VEVENT
BEGIN:VEVENT
DTSTART;TZID=America/Vancouver:20190125T193000
DTEND;TZID=America/Vancouver:20190125T193000
DTSTAMP:20260423T141320
CREATED:20190120T184750Z
LAST-MODIFIED:20190120T184750Z
UID:2376-1548444600-1548444600@www.peterzisa.com
SUMMARY:Peter Zisa at Neveh Shalom
DESCRIPTION:
URL:https://www.peterzisa.com/performance/peter-zisa-at-neveh-shalom/
LOCATION:OR
CATEGORIES:Peter Joseph Zisa
END:VEVENT
BEGIN:VEVENT
DTSTART;VALUE=DATE:20190120
DTEND;VALUE=DATE:20190121
DTSTAMP:20260423T141320
CREATED:20190120T184652Z
LAST-MODIFIED:20190120T184652Z
UID:2374-1547942400-1548028799@www.peterzisa.com
SUMMARY:Peter Zisa at The Grotto
DESCRIPTION:
URL:https://www.peterzisa.com/performance/peter-zisa-at-the-grotto/
LOCATION:The Grotto\, 8840 NE Skidmore Street\, Portland\, OR\, 97220\, United States
CATEGORIES:Peter Joseph Zisa
END:VEVENT
BEGIN:VEVENT
DTSTART;TZID=America/Vancouver:20190113T080000
DTEND;TZID=America/Vancouver:20190113T170000
DTSTAMP:20260423T141320
CREATED:20190113T215327Z
LAST-MODIFIED:20190113T215327Z
UID:2352-1547366400-1547398800@www.peterzisa.com
SUMMARY:Peter Zisa Instrument Showcase
DESCRIPTION:
URL:https://www.peterzisa.com/performance/peter-zisa-instrument-showcase-4/
LOCATION:Portland Community College; Sylvania Campus\, 12000 SW 49th Ave\, Portland\, OR\, 97219\, United States
CATEGORIES:Peter Joseph Zisa
END:VEVENT
BEGIN:VEVENT
DTSTART;TZID=America/Vancouver:20181208T190000
DTEND;TZID=America/Vancouver:20181208T190000
DTSTAMP:20260423T141320
CREATED:20180709T225519Z
LAST-MODIFIED:20181108T000028Z
UID:2229-1544295600-1544295600@www.peterzisa.com
SUMMARY:12th Annual Season of Lights Holiday Concert
DESCRIPTION:Peter Zisa and Friends Present 12th Annual Season of Lights Holiday Benefit Concert \n2018SeasonOfLights \nSaturday\, December 8\, 2018  \n     7:00 PM \nRose City Park Presbyterian Church \n1907 NE 45th Ave \nPortland\, OR 97213 \nFree Admission (Donations to Charity: CDZ Collegium Musica) \n  \nSeasons of Lights is a gift to the community from Peter Zisa and Friends. An annual benefit concert since 2006\, SOL returns this year with an exciting program of music that celebrates the many cultural and faith traditions of the Portland community. \n  \nThis year’s Season of Lights Holiday Program will feature music from Morocco\, Spain\, Poland\, Russia\, Japan\, Italy\, India\, Ghana (Africa) and the Americas. Among the artists performing are legendary Jazz Hall of Fame vocalist Shirley Nanette; award-winning international group Seffarine\, (guitar and oud\, Nat Hulskamp\,  vocalist\, Lamaie Naki; percussion\, Mimy Fikira); Cantor Eyal Bitton (congregation Neveh Shalom)\, violinists Andrew Ehrlich\, Majestic Duo: Tatiana Kolchanova and Mary Rowell\,  Thousand Waves (Yukiko Yamaguchi\, Japanese koto; LeeAnn McKenna\, flute\, percussion\, Mimy Fikira)\, Carnatic Indian dancer Klinton Halliday (Carnatic Indian dancer)\, and guitarist Peter Joseph Zisa. \nDonations benefits Music Education for Children and Adolescents (non-profit: CDZ Collegium Musica). “The Seasons of Light made my holiday celebration!” – D.L. \n  \n“Seasons of Light was the most inspiring holiday concert I have attended in many years – and also\, the most fun!” – M.S \nSOL is also an opportunity to support charitable organizations that benefit our community. This year\, the CDZ Collegium Musica is the represented charity. CDZ Collegium’s mission is Giving Voice to Our Youth through Music: Expression\, Connection\, and Creativity. Musiking (doing music: from playing an instrument to composing) is vital part of our children’s emotional\, intellectual\, and spiritual human development. For disadvantaged at-risk children and youth\, musiking represents empowerment through creative expression. \n 
URL:https://www.peterzisa.com/performance/season-of-lights-holiday-concert/
LOCATION:Rose City Park Presbyterian Church\, 1907 NE 45th Avenue\, Portland\, OR\, 97213\, United States
CATEGORIES:Peter Joseph Zisa
END:VEVENT
BEGIN:VEVENT
DTSTART;TZID=America/Vancouver:20181104T150000
DTEND;TZID=America/Vancouver:20181104T150000
DTSTAMP:20260423T141320
CREATED:20181029T184750Z
LAST-MODIFIED:20181029T184750Z
UID:2249-1541343600-1541343600@www.peterzisa.com
SUMMARY:Performance at U.C. Berkeley
DESCRIPTION:
URL:https://www.peterzisa.com/performance/performance-at-u-c-berkeley/
LOCATION:OR
CATEGORIES:Peter Joseph Zisa
END:VEVENT
BEGIN:VEVENT
DTSTART;TZID=America/Vancouver:20181103T200000
DTEND;TZID=America/Vancouver:20181103T200000
DTSTAMP:20260423T141320
CREATED:20181029T184707Z
LAST-MODIFIED:20181107T235722Z
UID:2247-1541275200-1541275200@www.peterzisa.com
SUMMARY:Performance at John Mello Guitar Studio
DESCRIPTION:SOLD OUT
URL:https://www.peterzisa.com/performance/performance-at-john-mello-guitar-studio/
LOCATION:OR
CATEGORIES:Peter Joseph Zisa
END:VEVENT
BEGIN:VEVENT
DTSTART;VALUE=DATE:20181101
DTEND;VALUE=DATE:20181102
DTSTAMP:20260423T141320
CREATED:20181029T184525Z
LAST-MODIFIED:20181107T235648Z
UID:2245-1541030400-1541116799@www.peterzisa.com
SUMMARY:American Immigration Lawyers Association Annual Gala Event
DESCRIPTION:Featured Artist \n 
URL:https://www.peterzisa.com/performance/american-immigration-lawyers-association-annual-gala-event/
LOCATION:Melody Ballroom\, 615 SE Alder Street\, Portland\, OR\, 97214\, United States
CATEGORIES:Peter Joseph Zisa
END:VEVENT
BEGIN:VEVENT
DTSTART;TZID=America/Vancouver:20181014T190000
DTEND;TZID=America/Vancouver:20181014T193000
DTSTAMP:20260423T141320
CREATED:20180709T225417Z
LAST-MODIFIED:20180709T230146Z
UID:2225-1539543600-1539545400@www.peterzisa.com
SUMMARY:Faces of the Guitar
DESCRIPTION:Pre-order at www.pgs. – $20 single\, $15 PGS members\, at the door $25\, $20 PGS members \nPerformers: classical guitarist Yuri Liberzon\, flamenco guitarist Brenna McDonald\, and Latin-Jazz Caminhos Cruzados. \n  \nThe members of the trio are jazz guitarist Dan Balmer\, flamenco-jazz guitarist Nat Hulskamp\, and Israel Annoh on cajon.
URL:https://www.peterzisa.com/performance/faces-of-the-guitar/
LOCATION:Clinton Theater\, 2522 SE Clinton Street\, Portland\, OR\, 97202\, United States
CATEGORIES:Peter Joseph Zisa
END:VEVENT
BEGIN:VEVENT
DTSTART;TZID=America/Vancouver:20180804T193000
DTEND;TZID=America/Vancouver:20180804T193000
DTSTAMP:20260423T141320
CREATED:20180709T225159Z
LAST-MODIFIED:20180709T225915Z
UID:2219-1533411000-1533411000@www.peterzisa.com
SUMMARY:August Rush Concert Event Featuring Shohei Toyoda and Doug Smith
DESCRIPTION:AUGUST RUSH CONCERT EVENT!  \nAWARD-WINNING FINGERSTYLE VIRTUOSI SHOHEI TOYODA AND Grammy-Award artist DOUG SMITH \nShohei Toyoda\, Award Fingerstyle Guitarist in Japan and the U.S.\, rejoins Doug Smith for a fun evening of contemporary finger-style guitar. \nDoug\, first prize winner of the U.S. Fingerstyle Guitar Competition\, is perhaps best known for Grammy-award winning album and guitar music he provided for the movie August Rush. \nDoug Smith – http://www.dougsmithguitar.com \nShohei – https://www.youtube.com/watch?v=7VxJChZpSC4 \nLocation: Casa Della Zisa \nTime: 7:30 \n$20 for single seat\, $35 a couple\, & $15 for PGS members \nRSVP casadellazisa@gmail.com or call 503-307-4907 for seat reservation and address.
URL:https://www.peterzisa.com/performance/august-rush-concert-event-featuring-shohei-toyoda-and-doug-smith/
LOCATION:Casa Della Zisa\, Portland\, OR\, United States
CATEGORIES:Peter Joseph Zisa
ORGANIZER;CN="Casa Della  Zisa":MAILTO: casadellazisa@gmail.com
END:VEVENT
BEGIN:VEVENT
DTSTART;VALUE=DATE:20180801
DTEND;VALUE=DATE:20180802
DTSTAMP:20260423T141320
CREATED:20180709T225307Z
LAST-MODIFIED:20180709T225307Z
UID:2221-1533081600-1533167999@www.peterzisa.com
SUMMARY:Special Master Guitar Workshop Conducted By Shohei Toyoda and Doug Smith
DESCRIPTION:
URL:https://www.peterzisa.com/performance/special-master-guitar-workshop-conducted-by-shohei-toyoda-and-doug-smith/
LOCATION:OR
CATEGORIES:Peter Joseph Zisa
END:VEVENT
BEGIN:VEVENT
DTSTART;VALUE=DATE:20180717
DTEND;VALUE=DATE:20180720
DTSTAMP:20260423T141320
CREATED:20180709T224547Z
LAST-MODIFIED:20180709T224600Z
UID:2208-1531785600-1532044799@www.peterzisa.com
SUMMARY:Six-Day Guitar Workshop (Ages 8-16)
DESCRIPTION:Theory\, Improvisation\, Conducting\, Guitar Ensemble\, and Composing. \nLed by Peter Zisa\, Travis Johnson\, Devin Kosloff
URL:https://www.peterzisa.com/performance/six-day-guitar-workshop-2/
LOCATION:OR
CATEGORIES:Peter Joseph Zisa
END:VEVENT
BEGIN:VEVENT
DTSTART;VALUE=DATE:20180709
DTEND;VALUE=DATE:20180713
DTSTAMP:20260423T141320
CREATED:20180709T224520Z
LAST-MODIFIED:20180709T224520Z
UID:2206-1531094400-1531439999@www.peterzisa.com
SUMMARY:Six-Day Guitar Workshop (Ages 8-16)
DESCRIPTION:Theory\, Improvisation\, Conducting\, Guitar Ensemble\, and Composing. \nLed by Peter Zisa\, Travis Johnson\, Devin Kosloff
URL:https://www.peterzisa.com/performance/six-day-guitar-workshop/
LOCATION:OR
CATEGORIES:Peter Joseph Zisa
END:VEVENT
BEGIN:VEVENT
DTSTART;TZID=America/Vancouver:20180518T200000
DTEND;TZID=America/Vancouver:20180518T200000
DTSTAMP:20260423T141320
CREATED:20180407T150732Z
LAST-MODIFIED:20180407T150732Z
UID:2193-1526673600-1526673600@www.peterzisa.com
SUMMARY:Peter Zisa performance with John Dodge and Maria Olaya
DESCRIPTION:
URL:https://www.peterzisa.com/performance/peter-zisa-performance-with-john-dodge-and-maria-olaya/
LOCATION:Artichoke Music\, 3130 SE Hawthorne Blvd\, Portland\, OR\, 97214\, United States
CATEGORIES:Peter Joseph Zisa
END:VEVENT
BEGIN:VEVENT
DTSTART;TZID=America/Vancouver:20180505T110000
DTEND;TZID=America/Vancouver:20180505T110000
DTSTAMP:20260423T141320
CREATED:20180407T150223Z
LAST-MODIFIED:20180407T150223Z
UID:2185-1525518000-1525518000@www.peterzisa.com
SUMMARY:Peter Zisa solo performance
DESCRIPTION:Sherwood Center of the Arts
URL:https://www.peterzisa.com/performance/peter-zisa-solo-performance-4/
LOCATION:George Fox University\, 414 N Meridian Street\, Newberg\, OR\, 97132\, United States
CATEGORIES:Peter Joseph Zisa
END:VEVENT
BEGIN:VEVENT
DTSTART;TZID=America/Vancouver:20180429T150000
DTEND;TZID=America/Vancouver:20180429T150000
DTSTAMP:20260423T141320
CREATED:20180407T150605Z
LAST-MODIFIED:20180421T133424Z
UID:2191-1525014000-1525014000@www.peterzisa.com
SUMMARY:Peter Zisa Instrument Showcase
DESCRIPTION:Wiegand Hall playing Dan Biasca Guitars  https://www.facebook.com/dan.biasca
URL:https://www.peterzisa.com/performance/peter-zisa-instrument-showcase-3/
LOCATION:Marylhurst University\, 17600 Pacific Highway (Hwy 43)\, Marylhurst\, 97036\, United States
CATEGORIES:Peter Joseph Zisa
END:VEVENT
BEGIN:VEVENT
DTSTART;TZID=America/Vancouver:20180428T160000
DTEND;TZID=America/Vancouver:20180428T160000
DTSTAMP:20260423T141320
CREATED:20180407T150500Z
LAST-MODIFIED:20180421T133355Z
UID:2189-1524931200-1524931200@www.peterzisa.com
SUMMARY:Peter Zisa Instrument Showcase
DESCRIPTION:Wiegand Hall playing Richard Prenkert Guitars http://www.prenkertguitars.com
URL:https://www.peterzisa.com/performance/peter-zisa-instrument-showcase-2/
LOCATION:Marylhurst University\, 17600 Pacific Highway (Hwy 43)\, Marylhurst\, 97036\, United States
CATEGORIES:Peter Joseph Zisa
END:VEVENT
BEGIN:VEVENT
DTSTART;TZID=America/Vancouver:20180428T130000
DTEND;TZID=America/Vancouver:20180428T130000
DTSTAMP:20260423T141320
CREATED:20180407T150408Z
LAST-MODIFIED:20180421T133332Z
UID:2187-1524920400-1524920400@www.peterzisa.com
SUMMARY:Peter Zisa Instrument Showcase
DESCRIPTION:Wiegand Hall (with John Dodge) playing John Mello Guitar http://www.johnfmello.com
URL:https://www.peterzisa.com/performance/peter-zisa-instrument-showcase/
LOCATION:Marylhurst University\, 17600 Pacific Highway (Hwy 43)\, Marylhurst\, 97036\, United States
CATEGORIES:Peter Joseph Zisa
END:VEVENT
BEGIN:VEVENT
DTSTART;TZID=America/Vancouver:20180427T184500
DTEND;TZID=America/Vancouver:20180427T184500
DTSTAMP:20260423T141320
CREATED:20180407T150034Z
LAST-MODIFIED:20180407T150114Z
UID:2182-1524854700-1524854700@www.peterzisa.com
SUMMARY:Peter Zisa solo performance
DESCRIPTION:Hoover 105\nHolli Paskewich – 6:30 p.m.
URL:https://www.peterzisa.com/performance/peter-zisa-solo-performance-3/
LOCATION:George Fox University\, 414 N Meridian Street\, Newberg\, OR\, 97132\, United States
CATEGORIES:Peter Joseph Zisa
END:VEVENT
BEGIN:VEVENT
DTSTART;TZID=America/Vancouver:20180423T180000
DTEND;TZID=America/Vancouver:20180423T180000
DTSTAMP:20260423T141320
CREATED:20180407T145937Z
LAST-MODIFIED:20180407T145937Z
UID:2180-1524506400-1524506400@www.peterzisa.com
SUMMARY:Peter Zisa solo performance
DESCRIPTION:
URL:https://www.peterzisa.com/performance/peter-zisa-solo-performance-2/
LOCATION:George Fox University\, 414 N Meridian Street\, Newberg\, OR\, 97132\, United States
CATEGORIES:Peter Joseph Zisa
END:VEVENT
BEGIN:VEVENT
DTSTART;VALUE=DATE:20180326
DTEND;VALUE=DATE:20180327
DTSTAMP:20260423T141320
CREATED:20180223T065906Z
LAST-MODIFIED:20180310T224744Z
UID:1937-1522022400-1522108799@www.peterzisa.com
SUMMARY:Peter Zisa Performance and Lecture
DESCRIPTION:Lecture and performance at Oka Hospital in Tsurusaki City.
URL:https://www.peterzisa.com/performance/peter-zisa-performance-and-lecture/
LOCATION:Oka Hospital (Tsurusaki City\, Japan)\, Tsurusaki\, Japan
CATEGORIES:Peter Joseph Zisa
END:VEVENT
BEGIN:VEVENT
DTSTART;VALUE=DATE:20180325
DTEND;VALUE=DATE:20180326
DTSTAMP:20260423T141320
CREATED:20180223T065755Z
LAST-MODIFIED:20180302T005300Z
UID:1935-1521936000-1522022399@www.peterzisa.com
SUMMARY:Peter performs with Chihiro Kitamine
DESCRIPTION:Peter performs with Chihiro Kitamine at Casa De Music in Kitsuki City.
URL:https://www.peterzisa.com/performance/peter-performs-with-chihiro-kitamine/
LOCATION:Casa de Music (Kitsuki City\, Japan)\, Kitsuki\, Japan
CATEGORIES:Peter Joseph Zisa
END:VEVENT
BEGIN:VEVENT
DTSTART;VALUE=DATE:20180319
DTEND;VALUE=DATE:20180320
DTSTAMP:20260423T141320
CREATED:20180223T065521Z
LAST-MODIFIED:20180302T000547Z
UID:1932-1521417600-1521503999@www.peterzisa.com
SUMMARY:Peter performs with Shohei Toyoda
DESCRIPTION:Peter performs with Shohei Toyoda at Aunoun Parlor in Kyoto\, Japan
URL:https://www.peterzisa.com/performance/peter-performs-with-shohei-toyoda/
LOCATION:Aunoun Parlor (Kyoto\, Japan)\, Kyoto\, Japan
CATEGORIES:Peter Joseph Zisa
END:VEVENT
BEGIN:VEVENT
DTSTART;VALUE=DATE:20180318
DTEND;VALUE=DATE:20180319
DTSTAMP:20260423T141320
CREATED:20180103T014320Z
LAST-MODIFIED:20180302T000656Z
UID:1621-1521331200-1521417599@www.peterzisa.com
SUMMARY:Peter Zisa solo performance
DESCRIPTION:Peter performs at Charis Guitar in Tokyo\, Japan
URL:https://www.peterzisa.com/performance/peter-zisa-solo-performance/
LOCATION:Charis Guitar (Tokyo\, Japan)\, Tokyo\, Japan
CATEGORIES:Peter Joseph Zisa
END:VEVENT
END:VCALENDAR