BEGIN:VCALENDAR
VERSION:2.0
PRODID:-//Dr. Peter Joseph Zisa - ECPv6.15.3//NONSGML v1.0//EN
CALSCALE:GREGORIAN
METHOD:PUBLISH
X-WR-CALNAME:Dr. Peter Joseph Zisa
X-ORIGINAL-URL:https://www.peterzisa.com
X-WR-CALDESC:Events for Dr. Peter Joseph Zisa
REFRESH-INTERVAL;VALUE=DURATION:PT1H
X-Robots-Tag:noindex
X-PUBLISHED-TTL:PT1H
BEGIN:VTIMEZONE
TZID:America/Vancouver
BEGIN:DAYLIGHT
TZOFFSETFROM:-0800
TZOFFSETTO:-0700
TZNAME:PDT
DTSTART:20220313T100000
END:DAYLIGHT
BEGIN:STANDARD
TZOFFSETFROM:-0700
TZOFFSETTO:-0800
TZNAME:PST
DTSTART:20221106T090000
END:STANDARD
BEGIN:DAYLIGHT
TZOFFSETFROM:-0800
TZOFFSETTO:-0700
TZNAME:PDT
DTSTART:20230312T100000
END:DAYLIGHT
BEGIN:STANDARD
TZOFFSETFROM:-0700
TZOFFSETTO:-0800
TZNAME:PST
DTSTART:20231105T090000
END:STANDARD
END:VTIMEZONE
BEGIN:VEVENT
DTSTART;TZID=America/Vancouver:20230616T193000
DTEND;TZID=America/Vancouver:20230616T193000
DTSTAMP:20260423T092023
CREATED:20230529T162747Z
LAST-MODIFIED:20230529T162751Z
UID:2994-1686943800-1686943800@www.peterzisa.com
SUMMARY:CDZ Collegium Musica Friday Musical Travel Series Featuring Maria Olaya
DESCRIPTION:CDZ Collegium Musica Friday Musical Travel Series @ U&I Event Center\nAn intimate venue where everyone enjoys a front row seat.\nRSVP to reserve a seat: info@uicafe.net  \nEvent U&I Event Center\,\nLocation: 11905 SW 69th Ave\, Tigard\, 97223\nTime: 7:30 – 8:30 pm \nHailing originally from Colombia\, Maria Olaya is a classical guitarist\, music teacher\, composer\, and arranger who draws from many years of experience and a wealth of musical knowledge. Maria has performed and taught around the world\, including appearances in Colombia\, Germany\, and all over the United States. A frequent and active performer in the Pacific Northwest\, Maria has played twice as the featured guitarist for the Portland Guitar Society. For many years she performed with Duende\, a Brazilian music trio\, and every spring Maria performs at the Northwest Handmade Instrument Show.
URL:https://www.peterzisa.com/performance/cdz-collegium-musica-friday-musical-travel-series-featuring-maria-olaya/
LOCATION:U&I Cultural Center\, 11905 SW 69th Ave\, TIgard\, OR\, 97223
CATEGORIES:Casa Della Zisa
END:VEVENT
BEGIN:VEVENT
DTSTART;TZID=America/Vancouver:20230611T150000
DTEND;TZID=America/Vancouver:20230611T150000
DTSTAMP:20260423T092023
CREATED:20230529T163451Z
LAST-MODIFIED:20230529T163451Z
UID:3000-1686495600-1686495600@www.peterzisa.com
SUMMARY:Peter Zisa & Friends - Performing at School Fundraiser for St. Agatha School
DESCRIPTION:Peter Zisa & Friends will perform for a School Fundraiser for St. Agatha School\nJoining Peter is Gabriela Gimenes (flute)\, Sarah Faux (pianist and singer)\, his students Gracie Flowerday and Siddharth Modha \nDate: Sunday June 11\, 3:00 – 4:00 pm @ St. Agatha Church 1430 SE Nehalem St\, Portland\, OR 97202
URL:https://www.peterzisa.com/performance/peter-zisa-friends-performing-at-school-fundraiser-for-st-agatha-school/
CATEGORIES:Peter Joseph Zisa
END:VEVENT
BEGIN:VEVENT
DTSTART;TZID=America/Vancouver:20230610T130000
DTEND;TZID=America/Vancouver:20230610T130000
DTSTAMP:20260423T092023
CREATED:20230529T163300Z
LAST-MODIFIED:20230529T163300Z
UID:2998-1686402000-1686402000@www.peterzisa.com
SUMMARY:CDZ Collegium Musica at Marys Woods with Anton Belov & Vadim Kolpakov
DESCRIPTION:CDZ Collegium Musica at Marys Woods \nJune 10th 1:00 pm\nLimited seating – For interested guests RSVP CasaDellaZisa@gmail.com  \nAnton Belov (baritone) & Vadim Kolpakov (7-string Romani guitar) present celebration of Romani music at Dunn Community Center at Marys Woods.
URL:https://www.peterzisa.com/performance/cdz-collegium-musica-at-marys-woods-with-anton-belov-vadim-kolpakov/
CATEGORIES:Casa Della Zisa
END:VEVENT
BEGIN:VEVENT
DTSTART;TZID=America/Vancouver:20230609T193000
DTEND;TZID=America/Vancouver:20230609T193000
DTSTAMP:20260423T092023
CREATED:20230529T162614Z
LAST-MODIFIED:20230529T162614Z
UID:2992-1686339000-1686339000@www.peterzisa.com
SUMMARY:CDZ Collegium Musica Friday Musical Travel Series Featuring Vadim Kolpakov
DESCRIPTION:CDZ Collegium Musica Friday Musical Travel Series @ U&I Event Center\nAn intimate venue where everyone enjoys a front row seat.\nRSVP to reserve a seat: info@uicafe.net  \nEvent U&I Event Center\,\nLocation: 11905 SW 69th Ave\, Tigard\, 97223\nTime: 7:30 – 8:30 pm \nVadim Kolpakov is one of the most prominent and renowned Romani (Gypsy) 7-string guitarists in the world\, as well as vocalist\, dancer and composer. He comes from a well-known Kolpakov music dynasty that has three generations of virtuoso guitarists. Vadim specializes in Gypsy music from Europe with the fusion of Jazz\, Pop\, Flamenco\, Latin and other World Music.  Vadim is an artistic director of Via Romen company\, he runs several projects with various musicians\, singers and dancers\, such as Zingaresca Ensemble and VS Guitar Duo. He performs at concerts\, festivals\, private and corporate events\, and is also known as a great guitar teacher and teaches classes online and in person.
URL:https://www.peterzisa.com/performance/cdz-collegium-musica-friday-musical-travel-series-featuring-vadim-kolpakov/
LOCATION:U&I Cultural Center\, 11905 SW 69th Ave\, TIgard\, OR\, 97223
CATEGORIES:Casa Della Zisa
END:VEVENT
BEGIN:VEVENT
DTSTART;TZID=America/Vancouver:20230602T193000
DTEND;TZID=America/Vancouver:20230602T193000
DTSTAMP:20260423T092023
CREATED:20230529T162454Z
LAST-MODIFIED:20230529T162454Z
UID:2990-1685734200-1685734200@www.peterzisa.com
SUMMARY:CDZ Collegium Musica Friday Musical Travel Series Featuring Vince Frates
DESCRIPTION:CDZ Collegium Musica Friday Musical Travel Series @ U&I Event Center\nAn intimate venue where everyone enjoys a front row seat.\nRSVP to reserve a seat: info@uicafe.net  \nEvent U&I Event Center\,\nLocation: 11905 SW 69th Ave\, Tigard\, 97223\nTime: 7:30 – 8:30 pm \nFriday June 2\nVince Frates is a pianist and composer based in Portland\, Oregon. At the University of Utah\, he studied composition and theory under Henry Wolking and Alan Weight. Inspired by the soulful pianist Wayne Chritiansen\, Vince plays authentically in many styles including rock\, funk\, soul\, pop\, country\, jazz and fusion. \nVince is an much in-demand studio musician. He has worked with all jazz bands and vocalists in town. He has also composed commercial music. His compositions have been heard on documentary films\, film trailers\, broadcast television and promotional music of all kinds. Among Vince’s composition credits are Good Morning America\, NBC Nightly News\, ABC Sports and The Today Show. His film trailer credits include The Nightmare Before Christmas\, The Lion King\, The Adventures of Huck Finn and dozens more. Vince’s large catalog of library music is regularly heard in diverse video productions.
URL:https://www.peterzisa.com/performance/cdz-collegium-musica-friday-musical-travel-series-featuring-vince-frates/
LOCATION:U&I Cultural Center\, 11905 SW 69th Ave\, TIgard\, OR\, 97223
CATEGORIES:Casa Della Zisa
END:VEVENT
BEGIN:VEVENT
DTSTART;VALUE=DATE:20230415
DTEND;VALUE=DATE:20230416
DTSTAMP:20260423T092023
CREATED:20230410T145710Z
LAST-MODIFIED:20230413T165708Z
UID:2978-1681516800-1681603199@www.peterzisa.com
SUMMARY:Peter Zisa Concert Tour in Japan – Concert Solo and Duo with with violinist Ayah Fujii
DESCRIPTION:Peter Zisa Concert Tour in Japan – Concert Solo and Duo performance with violinist Ayah Fujii in Oita
URL:https://www.peterzisa.com/performance/peter-zisa-concert-tour-in-japan-solos-and-duos/
CATEGORIES:Peter Joseph Zisa
END:VEVENT
BEGIN:VEVENT
DTSTART;VALUE=DATE:20230409
DTEND;VALUE=DATE:20230410
DTSTAMP:20260423T092023
CREATED:20230410T145528Z
LAST-MODIFIED:20230413T165747Z
UID:2975-1680998400-1681084799@www.peterzisa.com
SUMMARY:Peter Zisa Concert Tour in Japan - Concert Solo and Duo with Master Koto Performer Miho Yamaji
DESCRIPTION:Concert solo and duo with Peter Zisa and Master Koto Performer Miho Yamaji\nPremier performance featuring new work for guitar and koto.
URL:https://www.peterzisa.com/performance/peter-zisa-concert-tour-in-japan-concert-solo-and-duos-with-miho-yamaha-master-koto-performer/
CATEGORIES:Peter Joseph Zisa
END:VEVENT
BEGIN:VEVENT
DTSTART;VALUE=DATE:20230402
DTEND;VALUE=DATE:20230403
DTSTAMP:20260423T092023
CREATED:20230410T145300Z
LAST-MODIFIED:20230410T145300Z
UID:2973-1680393600-1680479999@www.peterzisa.com
SUMMARY:Peter Zisa Concert Tour in Japan
DESCRIPTION:Solo Concert
URL:https://www.peterzisa.com/performance/peter-zisa-concert-tour-in-japan/
CATEGORIES:Peter Joseph Zisa
END:VEVENT
BEGIN:VEVENT
DTSTART;TZID=America/Vancouver:20230324T193000
DTEND;TZID=America/Vancouver:20230324T193000
DTSTAMP:20260423T092023
CREATED:20230410T145130Z
LAST-MODIFIED:20230410T145130Z
UID:2971-1679686200-1679686200@www.peterzisa.com
SUMMARY:CDZ Collegium Musica Presents Peter Zisa (guitar) & Gabriela Gimenes (flute)
DESCRIPTION:CDZ Collegium Musica Presents\nPeter Zisa (guitar) & Gabriela Gimenes (flute)\nMusic of Mozart\, Piazzolla\, and Brazilian composer Edmundo Villani Cortes!\n7:30 – 8:30 pm\, $35\nU&I Event Center: 11905 SW 69th Ave Tigard\, 97223\nRefreshments served \nIntimate Musical Soiree limited seating RSVP required:info@uicafe.net
URL:https://www.peterzisa.com/performance/cdz-collegium-musica-presents-peter-zisa-guitar-gabriela-gimenes-flute/
LOCATION:U&I Cultural Center\, 11905 SW 69th Ave\, TIgard\, OR\, 97223
CATEGORIES:Casa Della Zisa
END:VEVENT
BEGIN:VEVENT
DTSTART;TZID=America/Vancouver:20221221T150000
DTEND;TZID=America/Vancouver:20221221T150000
DTSTAMP:20260423T092023
CREATED:20221204T012008Z
LAST-MODIFIED:20221204T045328Z
UID:2943-1671634800-1671634800@www.peterzisa.com
SUMMARY:CDZ Collegium Musica & Mary’s Woods presents 17th Annual Season of Lights Concert
DESCRIPTION:Location: Mary’s Woods \nDate and Time: December 21 at 3pm \nFeaturing Peter Zisa & Friends: Portland Jazz Hall of Fame Vocalist Shirley Nanette & Vince Frates (pianist); Music of Brazil & Germany\, Argentina\, and Japan: Flutist LeeAnn McKenna\, flute; Yukiko Zisa\, koto; and Peter Zisa\, classical guitar; Music of Italy\, Sarah Faux\, piano & Peter Zisa\, classical guitar; Young Artists: Gracie Flowerday\, classical guitar\, recent winner of Oregon Classical Guitar State Competition\, music of Spain; Siddharth Modha\, Classical guitar\, music of Brazil.
URL:https://www.peterzisa.com/performance/cdz-collegium-musica-marys-woods-presents-17th-annual-season-of-lights-concert/
LOCATION:Mary’s Woods\, 17400 Holy Names Drive\, Lake Oswego\, OR\, 97034\, United States
CATEGORIES:Casa Della Zisa,Peter Joseph Zisa
END:VEVENT
BEGIN:VEVENT
DTSTART;TZID=America/Vancouver:20221218T200000
DTEND;TZID=America/Vancouver:20221218T200000
DTSTAMP:20260423T092023
CREATED:20221204T011323Z
LAST-MODIFIED:20221204T045432Z
UID:2941-1671393600-1671393600@www.peterzisa.com
SUMMARY:Portland Guitar Society presents Peter Zisa\, classical guitar\, with guest performer LeeAnn McKenna\, flute\, Music of Mozart\, Pujol\, Tedesco\, Tisser and Artichoke Music
DESCRIPTION:Portland Guitar Society presents Peter Zisa\, classical guitar\, with guest performer LeeAnn McKenna\, flute\, Music of Mozart\, Pujol\, Tedesco\, and Tisserand \nLocation: Artichoke Music \n2007 SE Powell Blvd\, Portland \n8:00 pm
URL:https://www.peterzisa.com/performance/portland-guitar-society-presents-peter-zisa-classical-guitar-with-guest-performer-leeann-mckenna-flute-music-of-mozart-pujol-tedesco-tisser-and-artichoke-music/
LOCATION:Artichoke Music\, 3130 SE Hawthorne Blvd\, Portland\, OR\, 97214\, United States
CATEGORIES:Peter Joseph Zisa
END:VEVENT
BEGIN:VEVENT
DTSTART;TZID=America/Vancouver:20221218T160000
DTEND;TZID=America/Vancouver:20221218T160000
DTSTAMP:20260423T092023
CREATED:20221206T230228Z
LAST-MODIFIED:20221206T230228Z
UID:2954-1671379200-1671379200@www.peterzisa.com
SUMMARY:CDZ Collegium Musica & St. Agatha Church presents Season of Lights (Advent) Reflection
DESCRIPTION:CDZ Collegium Musica & St. Agatha Church presents Season of Lights (Advent) Reflection \nPeter Zisa\, classical guitar\, with guest performers Sarah Faux (organ\, piano & voice)\, LeeAnn McKenna\, flute; Yukiko Zisa (koto)                                                              \nVenue: St. Agatha Church 1430 SE Nehalem St\, Portland\, OR 9720 \n 
URL:https://www.peterzisa.com/performance/cdz-collegium-musica-st-agatha-church-presents-season-of-lights-advent-reflection/
LOCATION:St. Agatha Church\, 1430 SE Nehalem St\, Portland\, Oregon
CATEGORIES:Casa Della Zisa,Peter Joseph Zisa
END:VEVENT
BEGIN:VEVENT
DTSTART;TZID=America/Vancouver:20221111T190000
DTEND;TZID=America/Vancouver:20221111T210000
DTSTAMP:20260423T092023
CREATED:20221204T011113Z
LAST-MODIFIED:20221204T011113Z
UID:2938-1668193200-1668200400@www.peterzisa.com
SUMMARY:Peter Zisa with special guest artist Gabriela Gimenes (flute)
DESCRIPTION:Peter Zisa with special guest artist Gabriela Gimenes (flute)					Chehelem Cultural Center									415 E Sheridan St\, Newberg\, OR									7:00 – 9:00 pm
URL:https://www.peterzisa.com/performance/peter-zisa-with-special-guest-artist-gabriela-gimenes-flute/
LOCATION:Chehelem Cultural Center\, 415 E Sheridan St\, Newberg\, Oregon
CATEGORIES:Peter Joseph Zisa
END:VEVENT
BEGIN:VEVENT
DTSTART;TZID=America/Vancouver:20221030T150000
DTEND;TZID=America/Vancouver:20221030T170000
DTSTAMP:20260423T092023
CREATED:20221204T010922Z
LAST-MODIFIED:20221204T010922Z
UID:2936-1667142000-1667149200@www.peterzisa.com
SUMMARY:In Mulieri bus Somas y Suenos (Shadows & Dreams) concert   
DESCRIPTION:In Mulieri bus Somas y Suenos (Shadows & Dreams) concert   						Peter Zisa\, Special Guest performer St. Phillip Neri 												Sunday\, October 30\, 3:00 pm\nSt. Matthew\n475 SE 3rd Ave\, Hillsboro\, OR 9712
URL:https://www.peterzisa.com/performance/in-mulieri-bus-somas-y-suenos-shadows-dreams-concert-2/
CATEGORIES:Peter Joseph Zisa
END:VEVENT
BEGIN:VEVENT
DTSTART;TZID=America/Vancouver:20221029T193000
DTEND;TZID=America/Vancouver:20221029T210000
DTSTAMP:20260423T092023
CREATED:20221204T010818Z
LAST-MODIFIED:20221204T010818Z
UID:2934-1667071800-1667077200@www.peterzisa.com
SUMMARY:In Mulieri bus Somas y Suenos (Shadows & Dreams) concert 
DESCRIPTION:In Mulieri bus Somas y Suenos (Shadows & Dreams) concert   						Peter Zisa\, Special Guest performer St. Phillip Neri 												2408 SE 16th Ave\, Portland\, OR 97214
URL:https://www.peterzisa.com/performance/in-mulieri-bus-somas-y-suenos-shadows-dreams-concert/
CATEGORIES:Peter Joseph Zisa
END:VEVENT
BEGIN:VEVENT
DTSTART;TZID=America/Vancouver:20220908T180000
DTEND;TZID=America/Vancouver:20220908T193000
DTSTAMP:20260423T092023
CREATED:20221204T010707Z
LAST-MODIFIED:20221204T010707Z
UID:2932-1662660000-1662665400@www.peterzisa.com
SUMMARY:Peter Zisa\, Classical Guitar\, at Mary’s Woods: Healing Garden Performance
DESCRIPTION:Peter Zisa\, Classical Guitar      								 \nMary’s Woods: Healing Garden Performance\,							 \nPrivate Event 											 \n6:00 – 7:00 pm
URL:https://www.peterzisa.com/performance/peter-zisa-classical-guitar-at-marys-woods-healing-garden-performance-2/
END:VEVENT
BEGIN:VEVENT
DTSTART;TZID=America/Vancouver:20220906T180000
DTEND;TZID=America/Vancouver:20220906T193000
DTSTAMP:20260423T092023
CREATED:20221204T010616Z
LAST-MODIFIED:20221204T010616Z
UID:2930-1662487200-1662492600@www.peterzisa.com
SUMMARY:Peter Zisa\, Classical Guitar\, at Mary’s Woods: Healing Garden Performance
DESCRIPTION:Peter Zisa\, Classical Guitar      								 \nMary’s Woods: Healing Garden Performance\,							 \nPrivate Event 											 \n6:00 – 7:00 pm
URL:https://www.peterzisa.com/performance/peter-zisa-classical-guitar-at-marys-woods-healing-garden-performance/
CATEGORIES:Peter Joseph Zisa
END:VEVENT
BEGIN:VEVENT
DTSTART;TZID=America/Vancouver:20220617T190000
DTEND;TZID=America/Vancouver:20220617T190000
DTSTAMP:20260423T092023
CREATED:20220107T000046Z
LAST-MODIFIED:20220608T143258Z
UID:2861-1655492400-1655492400@www.peterzisa.com
SUMMARY:CDZ Collegium Musica Faces of the Guitar Series featuring Aaron Larget-Caplan\, Classical Guitar
DESCRIPTION:CDZ Collegium Musica Faces of the Guitar Series\nFeatured Artist: Aaron Larget-Caplan\, Classical Guitar\nDate: June 17\nTime: 7:30 p.m.\nTickets are available via Brown Paper Tickets\nVenue: Old Historic Church at Madeleine (3124 NE 24th Avenue\, Portland) \n\nMusic of Bach and the Beatles to John Cage and Beyond!\n“Aaron is a unique talent not to be missed!” – Washington Post \nAcclaimed international recording and touring guitarist Aaron Larget-Caplan is an exciting and innovative leader in classical music. Noted for his “astounding technical proficiency and artistic delicacy” by the Boston Musical Intelligencer\, Larget-Caplan has throughout the USA and in Europe\, Russia\, and Taiwan\, including El Palacio de Linares in Madrid\, Spain\, Sheremetev Palace in Russia\, and Palazzo del Te & Ducale in Mantova\, Italy. Aaron is on tour from Massachusetts. Last month he performed in the L.A. and Bay area. This will be Aaron’s only live in-person general public performance in Portland before traveling for a series of other concerts. Aaron’s program will be eclectic: Bach\, Beatles\, Tango\, John Cage (early piano music arranged for guitar by Aaron)\, and new works from around the world. He will perform and be interviewed for All-Classical radio station’s Thursday at 3:00 program Thursday\, June 16th. Friday afternoon at 1:00\, before his 7:30 public concert\, Aaron will perform a short program for the Mary’s Woods Retirement Community. \n\nSPECIAL DIRECTIONS:\nMadeleine’s Old Historic Church is on the second floor in the building between the church and the school. There is a circular driveway to the front door of the building for easy access for wheel chair access. If you enter the building from 24th street\, go past two double doors where there is an elevator and staircase to the Old Historic Church Concert room (2nd floor). If you purchase your tickets in advance your name will be on the will-call list. You also have the option of printing out your own ticket or downloading it on your phone.
URL:https://www.peterzisa.com/performance/cdz-collegium-musica-faces-of-the-guitar-series/
CATEGORIES:Casa Della Zisa
END:VEVENT
BEGIN:VEVENT
DTSTART;TZID=America/Vancouver:20220612T150000
DTEND;TZID=America/Vancouver:20220612T170000
DTSTAMP:20260423T092023
CREATED:20220106T235909Z
LAST-MODIFIED:20220514T212825Z
UID:2859-1655046000-1655053200@www.peterzisa.com
SUMMARY:CDZ Collegium Musica Friends of the Guitar Community Series
DESCRIPTION:Friends of the Guitar Community Series\nSponsored by CDZ Collegium Musica and the Portland Guitar Society\nDate: June 12th (Sunday)\nTime: 3:00pm\nRSVP:CasaDellaZisa@gmail.com\nLimit: 20 guests including performers\nVenue: U&I Cafe in Tigard
URL:https://www.peterzisa.com/performance/cdz-collegium-musica-friends-of-the-guitar-community-series-3/
CATEGORIES:Casa Della Zisa
END:VEVENT
BEGIN:VEVENT
DTSTART;TZID=America/Vancouver:20220515T140000
DTEND;TZID=America/Vancouver:20220515T140000
DTSTAMP:20260423T092023
CREATED:20220514T213131Z
LAST-MODIFIED:20220514T213131Z
UID:2893-1652623200-1652623200@www.peterzisa.com
SUMMARY:PGS: Friends of the Guitar Community Series
DESCRIPTION:PGS: Friends of the Guitar Community Series\nSponsored by CDZ Collegium Musica & U&I Cafe\nTime: Sunday May 15 at 2:00  pm\nVenue: U&I Cafe in Tigard\nRSVP: CasaDellaZisa@gmail.com
URL:https://www.peterzisa.com/performance/pgs-friends-of-the-guitar-community-series/
END:VEVENT
BEGIN:VEVENT
DTSTART;TZID=America/Vancouver:20220514T190000
DTEND;TZID=America/Vancouver:20220514T210000
DTSTAMP:20260423T092023
CREATED:20221204T010457Z
LAST-MODIFIED:20221204T010457Z
UID:2928-1652554800-1652562000@www.peterzisa.com
SUMMARY:Peter Zisa & Friends Concert: Musical Cultures of Latin America
DESCRIPTION:Peter Zisa & Friends Concert: Musical Cultures of Latin America\nGabriela Gimenes (flute)\, Maria (piano) and Michael Manzo (oboe)\nDate: Saturday\, May 14\, @ 7:00 p.m.\nVenue: Old Church at Madeleine (3124 NE 24th Ave)\n$20 donation\, $10 for seniors\, children free
URL:https://www.peterzisa.com/performance/peter-zisa-friends-concert-musical-cultures-of-latin-america/
CATEGORIES:Peter Joseph Zisa
END:VEVENT
BEGIN:VEVENT
DTSTART;TZID=America/Vancouver:20220514T190000
DTEND;TZID=America/Vancouver:20220514T190000
DTSTAMP:20260423T092023
CREATED:20220322T001524Z
LAST-MODIFIED:20220514T212704Z
UID:2886-1652554800-1652554800@www.peterzisa.com
SUMMARY:CDZ Collegium Musica Faces of the Guitar Series: Peter Zisa & Friends Celebration of the Musical Cultures of Latin America with Maria Manzo (Piano)\, Michael Manzo (Oboe)\, Gabriela Gimenes (Flute)\, and Peter Zisa (Classical Guitar)
DESCRIPTION:Date: May 14 (Saturday)\nTime: 7:00 p.m. \nRSVP: CasaDellaZisa@gmail.com\nLimit: 50 seat limit\nVenue: Old Church at Madeleine(3124 NE 24th Ave)\n(This is a beautiful new venue\, 1.5 million restoration is the home of three NPO concert Series: Cappella Romana\, BRAVO\, and Collegium Musica)
URL:https://www.peterzisa.com/performance/cdz-collegium-musica-faces-of-the-guitar-series-peter-zisa-friends-celebration-of-the-musical-cultures-of-latin-america-with-maria-manzo-piano-michael-manzo-oboe-gabriela-gimenes-flute-and/
CATEGORIES:Casa Della Zisa,Peter Joseph Zisa
END:VEVENT
BEGIN:VEVENT
DTSTART;TZID=America/Vancouver:20220509T150000
DTEND;TZID=America/Vancouver:20220509T150000
DTSTAMP:20260423T092023
CREATED:20220107T000750Z
LAST-MODIFIED:20220107T000750Z
UID:2871-1652108400-1652108400@www.peterzisa.com
SUMMARY:CDZ Collegium Musica Friends of the Guitar Community Series
DESCRIPTION:Friends of the Guitar Community Series \nFeatured artist:  \nSponsored by CDZ Collegium Musica and the Portland Guitar Society \nDate: May 9 \nTime: Sunday at 3:00         \nVenue: U&I Cafe in Tigard \nRSVP: CasaDellaZisa@gmail.com \nLimit: 20 guests including performers \nCovid Policy: All must wear masks and maintain social distancing.
URL:https://www.peterzisa.com/performance/cdz-collegium-musica-friends-of-the-guitar-community-series-4/
CATEGORIES:Casa Della Zisa
END:VEVENT
BEGIN:VEVENT
DTSTART;TZID=America/Vancouver:20220508T190000
DTEND;TZID=America/Vancouver:20220508T190000
DTSTAMP:20260423T092023
CREATED:20220106T235651Z
LAST-MODIFIED:20220107T000416Z
UID:2857-1652036400-1652036400@www.peterzisa.com
SUMMARY:CDZ Collegium Musica Faces of the Guitar Series with Peter Zisa & Friends
DESCRIPTION:CDZ Collegium Musica Faces of the Guitar Series with Peter Zisa & Friends\nDate: Sunday\, May 8\nTime: 7:00 p.m.\nVenue: Old Church at Madeleine (3124 NE 24th Ave)\n(This is a beautiful new venue\, 1.5 million restoration is the home of three NPO concert Series:\nCappella Romana\, BRAVO\, and Collegium Musica)\nRSVP: CasaDellaZisa@gmail.com\nLimit: 50 seat limit\nCovid Policy: All must wear masks and maintain social distancing.
URL:https://www.peterzisa.com/performance/cdz-collegium-musica-faces-of-the-guitar-series-with-peter-zisa-friends/
CATEGORIES:Casa Della Zisa,Peter Joseph Zisa
END:VEVENT
BEGIN:VEVENT
DTSTART;TZID=America/Vancouver:20220410T150000
DTEND;TZID=America/Vancouver:20220410T150000
DTSTAMP:20260423T092023
CREATED:20220106T235532Z
LAST-MODIFIED:20220107T000536Z
UID:2855-1649602800-1649602800@www.peterzisa.com
SUMMARY:CDZ Collegium Musica Friends of the Guitar Community Series
DESCRIPTION:Friends of the Guitar Community Series\nFeatured artist:\nSponsored by CDZ Collegium Musica and the Portland Guitar Society\nVenue: U&I Cafe in Tigard\nDate: April 10\nDay & Time: Sunday at 3:00\nRSVP: CasaDellaZisa@gmail.com\nLimit: 20 guests including performers\nCovid Policy: All must wear masks and maintain social distancing.
URL:https://www.peterzisa.com/performance/cdz-collegium-musica-friends-of-the-guitar-community-series-2/
CATEGORIES:Casa Della Zisa
END:VEVENT
BEGIN:VEVENT
DTSTART;TZID=America/Vancouver:20220409T193000
DTEND;TZID=America/Vancouver:20220409T210000
DTSTAMP:20260423T092023
CREATED:20221204T010245Z
LAST-MODIFIED:20221204T012622Z
UID:2926-1649532600-1649538000@www.peterzisa.com
SUMMARY:Soirée de Musique Guitare
DESCRIPTION:Saturday April 9\, 7:30 pm concert\nU&I Cultural Center in Tigard\n11905 SW 69th Ave Tigard\, 97223\n$25 – Tickets
URL:https://www.peterzisa.com/performance/soiree-de-musique-guitare/
LOCATION:U&I Cultural Center\, 11905 SW 69th Ave\, TIgard\, OR\, 97223
CATEGORIES:Peter Joseph Zisa
END:VEVENT
BEGIN:VEVENT
DTSTART;TZID=America/Vancouver:20220409T190000
DTEND;TZID=America/Vancouver:20220409T190000
DTSTAMP:20260423T092023
CREATED:20220322T000510Z
LAST-MODIFIED:20220322T001202Z
UID:2881-1649530800-1649530800@www.peterzisa.com
SUMMARY:Soirée de Musique Guitar with Peter & Pam Beaty: Music of Brazil
DESCRIPTION:Date: April 9th \nTime:7pm \nVenue: U&I Cafe
URL:https://www.peterzisa.com/performance/soiree-de-musique-guitar-with-peter-pam-beaty-music-of-brazil/
CATEGORIES:Casa Della Zisa,Peter Joseph Zisa
END:VEVENT
BEGIN:VEVENT
DTSTART;TZID=America/Vancouver:20220403T153000
DTEND;TZID=America/Vancouver:20220403T170000
DTSTAMP:20260423T092023
CREATED:20221204T005906Z
LAST-MODIFIED:20221204T012549Z
UID:2923-1648999800-1649005200@www.peterzisa.com
SUMMARY:A Musical Retreat: Music to reflect and inspire!
DESCRIPTION:A Musical Retreat: Music to reflect and inspire!\nPeter Zisa (classical guitar)\, Sarah Faux (organ & voice)\, Gabriela Gimenes (flute) \nMusic of DuFay\, Bach (BWV 1004\, 1034)\, Villa-Lobos\, Pujol\, Mompou\n$12 donation requested\nLocation: St. Agatha Church\,\n1430 SE Nehalem St Portland
URL:https://www.peterzisa.com/performance/a-musical-retreat-music-to-reflect-and-inspire/
LOCATION:St. Agatha Church\, 1430 SE Nehalem St\, Portland\, Oregon
CATEGORIES:Peter Joseph Zisa
END:VEVENT
BEGIN:VEVENT
DTSTART;TZID=America/Vancouver:20220403T140000
DTEND;TZID=America/Vancouver:20220403T140000
DTSTAMP:20260423T092023
CREATED:20220322T000805Z
LAST-MODIFIED:20220322T000917Z
UID:2883-1648994400-1648994400@www.peterzisa.com
SUMMARY:Lenten Concert with Sarah Faux (voice & Organ) and Peter Zisa & Gabriela Gimenes (flute)
DESCRIPTION:Time: 2pm \nLocation: St. Agatha’s Church
URL:https://www.peterzisa.com/performance/lenten-concert-with-sarah-faux-voice-organ-and-peter-zisa-gabriela-gimenes-flute/
CATEGORIES:Casa Della Zisa,Peter Joseph Zisa
END:VEVENT
BEGIN:VEVENT
DTSTART;TZID=America/Vancouver:20220318T080000
DTEND;TZID=America/Vancouver:20220318T170000
DTSTAMP:20260423T092023
CREATED:20221204T005615Z
LAST-MODIFIED:20221204T012444Z
UID:2920-1647590400-1647622800@www.peterzisa.com
SUMMARY:Peter Zisa\, Video performances in Japan
DESCRIPTION:Peter Zisa\, Video performances in Japan\nPerformances in Tokyo & Yanai
URL:https://www.peterzisa.com/performance/peter-zisa-video-performances-in-japan-2/
CATEGORIES:Peter Joseph Zisa
END:VEVENT
END:VCALENDAR