BEGIN:VCALENDAR
VERSION:2.0
PRODID:-//Dr. Peter Joseph Zisa - ECPv6.15.3//NONSGML v1.0//EN
CALSCALE:GREGORIAN
METHOD:PUBLISH
X-WR-CALNAME:Dr. Peter Joseph Zisa
X-ORIGINAL-URL:https://www.peterzisa.com
X-WR-CALDESC:Events for Dr. Peter Joseph Zisa
REFRESH-INTERVAL;VALUE=DURATION:PT1H
X-Robots-Tag:noindex
X-PUBLISHED-TTL:PT1H
BEGIN:VTIMEZONE
TZID:America/Vancouver
BEGIN:DAYLIGHT
TZOFFSETFROM:-0800
TZOFFSETTO:-0700
TZNAME:PDT
DTSTART:20070311T100000
END:DAYLIGHT
BEGIN:STANDARD
TZOFFSETFROM:-0700
TZOFFSETTO:-0800
TZNAME:PST
DTSTART:20071104T090000
END:STANDARD
END:VTIMEZONE
BEGIN:VEVENT
DTSTART;TZID=America/Vancouver:20070916T190000
DTEND;TZID=America/Vancouver:20070916T210000
DTSTAMP:20260425T041826
CREATED:20160408T184818Z
LAST-MODIFIED:20160408T174045Z
UID:1131-1189969200-1189976400@www.peterzisa.com
SUMMARY:Classical Guitar with Peter Zisa
DESCRIPTION:
URL:https://www.peterzisa.com/performance/classical-guitar-with-peter-zisa-2/
LOCATION:Grants Pass\, Grants Pass\, OR\, United States
CATEGORIES:Peter Joseph Zisa
END:VEVENT
BEGIN:VEVENT
DTSTART;TZID=America/Vancouver:20070907T190000
DTEND;TZID=America/Vancouver:20070907T210000
DTSTAMP:20260425T041826
CREATED:20160408T184436Z
LAST-MODIFIED:20160408T174029Z
UID:1130-1189191600-1189198800@www.peterzisa.com
SUMMARY:First Thursday
DESCRIPTION:
URL:https://www.peterzisa.com/performance/first-thursday-3/
LOCATION:Lawrence Gallery\, 903 NW Davis Street\, Portland\, OR\, 97209\, United States
CATEGORIES:Peter Joseph Zisa
END:VEVENT
BEGIN:VEVENT
DTSTART;TZID=America/Vancouver:20070816T190000
DTEND;TZID=America/Vancouver:20070816T210000
DTSTAMP:20260425T041826
CREATED:20160408T184152Z
LAST-MODIFIED:20160408T174012Z
UID:1129-1187290800-1187298000@www.peterzisa.com
SUMMARY:A Rembrandt Evening
DESCRIPTION:
URL:https://www.peterzisa.com/performance/a-rembrandt-evening/
LOCATION:Portland Art Museum\, 1219 SW Park Avenue\, Portland\, OR\, 97205\, United States
CATEGORIES:Peter Joseph Zisa
END:VEVENT
BEGIN:VEVENT
DTSTART;TZID=America/Vancouver:20070802T190000
DTEND;TZID=America/Vancouver:20070802T210000
DTSTAMP:20260425T041826
CREATED:20160408T184038Z
LAST-MODIFIED:20160408T173958Z
UID:1128-1186081200-1186088400@www.peterzisa.com
SUMMARY:First Thursday
DESCRIPTION:
URL:https://www.peterzisa.com/performance/first-thursday-2/
LOCATION:OR
CATEGORIES:Peter Joseph Zisa
END:VEVENT
BEGIN:VEVENT
DTSTART;TZID=America/Vancouver:20070720T193000
DTEND;TZID=America/Vancouver:20070720T213000
DTSTAMP:20260425T041826
CREATED:20160408T182451Z
LAST-MODIFIED:20160408T173942Z
UID:1126-1184959800-1184967000@www.peterzisa.com
SUMMARY:Classical Guitar with Peter Zisa
DESCRIPTION:
URL:https://www.peterzisa.com/performance/classical-guitar-with-peter-zisa/
LOCATION:Mary’s Woods\, 17400 Holy Names Drive\, Lake Oswego\, OR\, 97034\, United States
CATEGORIES:Peter Joseph Zisa
END:VEVENT
BEGIN:VEVENT
DTSTART;TZID=America/Vancouver:20070705T190000
DTEND;TZID=America/Vancouver:20070705T210000
DTSTAMP:20260425T041826
CREATED:20160408T183819Z
LAST-MODIFIED:20160408T173919Z
UID:1127-1183662000-1183669200@www.peterzisa.com
SUMMARY:First Thursday
DESCRIPTION:
URL:https://www.peterzisa.com/performance/first-thursday/
LOCATION:Lawrence Gallery\, 903 NW Davis Street\, Portland\, OR\, 97209\, United States
CATEGORIES:Peter Joseph Zisa
END:VEVENT
END:VCALENDAR