BEGIN:VCALENDAR
VERSION:2.0
PRODID:-//Dr. Peter Joseph Zisa - ECPv6.15.3//NONSGML v1.0//EN
CALSCALE:GREGORIAN
METHOD:PUBLISH
X-WR-CALNAME:Dr. Peter Joseph Zisa
X-ORIGINAL-URL:https://www.peterzisa.com
X-WR-CALDESC:Events for Dr. Peter Joseph Zisa
REFRESH-INTERVAL;VALUE=DURATION:PT1H
X-Robots-Tag:noindex
X-PUBLISHED-TTL:PT1H
BEGIN:VTIMEZONE
TZID:America/Vancouver
BEGIN:DAYLIGHT
TZOFFSETFROM:-0800
TZOFFSETTO:-0700
TZNAME:PDT
DTSTART:20180311T100000
END:DAYLIGHT
BEGIN:STANDARD
TZOFFSETFROM:-0700
TZOFFSETTO:-0800
TZNAME:PST
DTSTART:20181104T090000
END:STANDARD
BEGIN:DAYLIGHT
TZOFFSETFROM:-0800
TZOFFSETTO:-0700
TZNAME:PDT
DTSTART:20190310T100000
END:DAYLIGHT
BEGIN:STANDARD
TZOFFSETFROM:-0700
TZOFFSETTO:-0800
TZNAME:PST
DTSTART:20191103T090000
END:STANDARD
END:VTIMEZONE
BEGIN:VEVENT
DTSTART;TZID=America/Vancouver:20190901T193000
DTEND;TZID=America/Vancouver:20190901T193000
DTSTAMP:20260423T200743
CREATED:20190113T215949Z
LAST-MODIFIED:20190113T215949Z
UID:2366-1567366200-1567366200@www.peterzisa.com
SUMMARY:Casa Della Zisa hosts Hillary Field CD release concert
DESCRIPTION:
URL:https://www.peterzisa.com/performance/casa-della-zisa-hosts-hillary-field-cd-release-concert/
LOCATION:Casa Della Zisa\, Portland\, OR\, United States
CATEGORIES:Casa Della Zisa
ORGANIZER;CN="Casa Della  Zisa":MAILTO: casadellazisa@gmail.com
END:VEVENT
BEGIN:VEVENT
DTSTART;VALUE=DATE:20190727
DTEND;VALUE=DATE:20190728
DTSTAMP:20260423T200743
CREATED:20190426T195200Z
LAST-MODIFIED:20190426T195200Z
UID:2386-1564185600-1564271999@www.peterzisa.com
SUMMARY:Casa Della Zisa presents Doug Smith and Shohei Toyoda together
DESCRIPTION:Grammy-award winning Doug Smith and Japan Fingerstyle champion Shohei Toyoda return by popular demand to do a joint concert. \n$20 individual\, $35 for a couple\, $15 for Portland Guitar Society Members
URL:https://www.peterzisa.com/performance/casa-della-zisa-presents-doug-smith-and-shohei-toyoda-together/
LOCATION:Casa Della Zisa\, Portland\, OR\, United States
CATEGORIES:Casa Della Zisa
ORGANIZER;CN="Casa Della  Zisa":MAILTO: casadellazisa@gmail.com
END:VEVENT
BEGIN:VEVENT
DTSTART;TZID=America/Vancouver:20190720T193000
DTEND;TZID=America/Vancouver:20190720T193000
DTSTAMP:20260423T200743
CREATED:20190113T215901Z
LAST-MODIFIED:20190113T215901Z
UID:2364-1563651000-1563651000@www.peterzisa.com
SUMMARY:Casa Della Zisa presents Craig Einhorn
DESCRIPTION:
URL:https://www.peterzisa.com/performance/casa-della-zisa-presents-craig-einhorn/
LOCATION:Casa Della Zisa\, Portland\, OR\, United States
CATEGORIES:Casa Della Zisa
ORGANIZER;CN="Casa Della  Zisa":MAILTO: casadellazisa@gmail.com
END:VEVENT
BEGIN:VEVENT
DTSTART;TZID=America/Vancouver:20190629T193000
DTEND;TZID=America/Vancouver:20190629T193000
DTSTAMP:20260423T200743
CREATED:20190113T215820Z
LAST-MODIFIED:20190426T194954Z
UID:2362-1561836600-1561836600@www.peterzisa.com
SUMMARY:Casa Della Zisa presents Folias Duo
DESCRIPTION:$20 individual\, $35 for a couple\, $15 for Portland Guitar Society Members \nRobert Schulslaper of Fanfare Magazine writes: “Carmen Maret and Andrew Bergeron are facile players…they draw on tango rhythms and melodies sometimes; at other times they write with a scenic sensitivity…mysterious…charming…evocative\,” while \nTodd Gorman of American Record Guide calls the Folias Duo “daring in self- written music” and “a nice touch of originality.” \nAndrew Bergeron and Carmen Maret are composers\, educators and exciting young performers from Grand Rapids\, Michigan known for their work as the Folias Duo. \nFolias Duo’s fifteen year performer/composer collaboration has taken this nomadic husband and wife duo to stages throughout the United States and around the globe including Sweden\, Denmark\, Germany\, Austria\, Italy\, Portugal\, Argentina\, and Chile. \nThey have a fearless approach to developing new compositions for flute and guitar\, and creating exciting virtuosic arrangements of Argentine tango\, and South American music.
URL:https://www.peterzisa.com/performance/casa-della-zisa-presents-folias-duo/
LOCATION:Casa Della Zisa\, Portland\, OR\, United States
CATEGORIES:Casa Della Zisa
ORGANIZER;CN="Casa Della  Zisa":MAILTO: casadellazisa@gmail.com
END:VEVENT
BEGIN:VEVENT
DTSTART;TZID=America/Vancouver:20190608T193000
DTEND;TZID=America/Vancouver:20190608T193000
DTSTAMP:20260423T200743
CREATED:20190113T215735Z
LAST-MODIFIED:20190426T200311Z
UID:2360-1560022200-1560022200@www.peterzisa.com
SUMMARY:Casa Della Zisa presents Choro da Alegria and Peter Zisa
DESCRIPTION:RSVP casadellazisa@gmail.com or call 503-307-4907\n$20 seat; $15 for PGS members\, senior citizens\, and students \nChoro da Alegria (choro of happiness) is a Portland-based ensemble dedicated to playing the wonderful melodies of Brazil. The group is thrilled to be returning to the CDZ concert series \nChoro da Alegria draws much inspiration from the genre choro\, which means cry or lament and has been loosely called “Brazilian ragtime.” Choro features samba rhythms\, jazzy chords and fast tempos. Beyond choro the group enjoys performing classics tunes from Bossa Nova and MPB. Choro da Alegria is Pam Beaty on 7 string guitar\, Tom Pinit on bandolim\, and Esteban Diaz on percussion. The group released its first CD\, “quiosque\,” in 2015. \nThe concert will also feature special guest flutist Gabriela Gimenes from São Paulo\, Brazil. Pam Beaty and Peter Zisa will also perform set of Brazilian guitar duets.
URL:https://www.peterzisa.com/performance/casa-della-zisa-presents-choro-da-alegria-and-peter-zisa/
LOCATION:Casa Della Zisa\, Portland\, OR\, United States
CATEGORIES:Casa Della Zisa
ORGANIZER;CN="Casa Della  Zisa":MAILTO: casadellazisa@gmail.com
END:VEVENT
BEGIN:VEVENT
DTSTART;TZID=America/Vancouver:20190518T193000
DTEND;TZID=America/Vancouver:20190518T193000
DTSTAMP:20260423T200743
CREATED:20190113T215556Z
LAST-MODIFIED:20190120T184514Z
UID:2358-1558207800-1558207800@www.peterzisa.com
SUMMARY:Casa Della Zisa presents Adam Levin and James Mandeule
DESCRIPTION:Bio on Adam Levin: A Fulbright scholar and winner of international guitar competitions\, Adam Levin has been praised for his “visceral and imaginative performances” by the Washington Post\,  Adam Levin has performed on four continents across the globe. Adam is also a  champion of music education. He is the co-founder of Kithara Project Inc. which puts provides guitars and quality instruction for at-risk young people in two cities in the U.S. and a third in Mexico City. \n\n\nBio info: James Manuele is an associated professor at Clark College in Vancouver Washington. He earned his Masters of Music in Guitar Performance at Portland State University\, under composer and guitarist Bryan Johanson. In addition to solo performances\, James performs chamber music with Foti Lycouridis as the Portland Guitar Duo.\n\nRSVP casadellazisa@gmail.com or call 503-307-4907\n$20 seat; $15 for PGS members\, senior citizens\, and students
URL:https://www.peterzisa.com/performance/casa-della-zisa-presents-adam-levin-and-james-mandeule/
LOCATION:Casa Della Zisa\, Portland\, OR\, United States
CATEGORIES:Casa Della Zisa
ORGANIZER;CN="Casa Della  Zisa":MAILTO: casadellazisa@gmail.com
END:VEVENT
BEGIN:VEVENT
DTSTART;VALUE=DATE:20190511
DTEND;VALUE=DATE:20190512
DTSTAMP:20260423T200743
CREATED:20190120T184929Z
LAST-MODIFIED:20190120T184929Z
UID:2380-1557532800-1557619199@www.peterzisa.com
SUMMARY:Peter Zisa at George Fox University
DESCRIPTION:
URL:https://www.peterzisa.com/performance/peter-zisa-at-george-fox-university-2/
LOCATION:George Fox University\, 414 N Meridian Street\, Newberg\, OR\, 97132\, United States
CATEGORIES:Peter Joseph Zisa
END:VEVENT
BEGIN:VEVENT
DTSTART;TZID=America/Vancouver:20190505T133000
DTEND;TZID=America/Vancouver:20190505T133000
DTSTAMP:20260423T200743
CREATED:20190426T200155Z
LAST-MODIFIED:20190426T200155Z
UID:2394-1557063000-1557063000@www.peterzisa.com
SUMMARY:2019 Northwest Musical Instrument Exhibit
DESCRIPTION:Peter performs on an instrument made by John Mello. Peter will be joined by acoustic guitarist and songwriter John Dodge.
URL:https://www.peterzisa.com/performance/2019-northwest-musical-instrument-exhibit-2/
LOCATION:Portland Community College; Sylvania Campus\, 12000 SW 49th Ave\, Portland\, OR\, 97219\, United States
CATEGORIES:Peter Joseph Zisa
END:VEVENT
BEGIN:VEVENT
DTSTART;TZID=America/Vancouver:20190504T193000
DTEND;TZID=America/Vancouver:20190504T193000
DTSTAMP:20260423T200743
CREATED:20190113T215425Z
LAST-MODIFIED:20190113T215425Z
UID:2354-1556998200-1556998200@www.peterzisa.com
SUMMARY:Casa Della Zisa presents James Reid\, Classical Guitar
DESCRIPTION:James Reid is highly regarded performer. He has debuted works by Bryan Johanson\,  Andrew York\, Maximo Diego Pujol\, and\nGwyneth Walker. Mr. Reid heads the  guitar department at the University of Idaho. “The classical guitar has seldom had a       more elegant steward\, and here Reid performs a rich array of classical and contemporary pieces.”  –Canon Press\n\nRSVP casadellazisa@gmail.com or call 503-307-4907\n$20 seat; $15 for PGS members\, senior citizens\, and students
URL:https://www.peterzisa.com/performance/casa-della-zisa-presents-james-reid-classical-guitar/
LOCATION:Casa Della Zisa\, Portland\, OR\, United States
CATEGORIES:Casa Della Zisa
ORGANIZER;CN="Casa Della  Zisa":MAILTO: casadellazisa@gmail.com
END:VEVENT
BEGIN:VEVENT
DTSTART;TZID=America/Vancouver:20190504T150000
DTEND;TZID=America/Vancouver:20190504T150000
DTSTAMP:20260423T200743
CREATED:20190426T200026Z
LAST-MODIFIED:20190426T200026Z
UID:2392-1556982000-1556982000@www.peterzisa.com
SUMMARY:2019 Northwest Musical Instrument Exhibit
DESCRIPTION:Peter performs on instruments made by Richard Prenkert.
URL:https://www.peterzisa.com/performance/2019-northwest-musical-instrument-exhibit/
LOCATION:Portland Community College; Sylvania Campus\, 12000 SW 49th Ave\, Portland\, OR\, 97219\, United States
CATEGORIES:Peter Joseph Zisa
END:VEVENT
BEGIN:VEVENT
DTSTART;TZID=America/Vancouver:20190503T193000
DTEND;TZID=America/Vancouver:20190503T193000
DTSTAMP:20260423T200743
CREATED:20190113T215226Z
LAST-MODIFIED:20190113T215226Z
UID:2350-1556911800-1556911800@www.peterzisa.com
SUMMARY:Casa Della Zisa presents Ikuo Inoue & Cameron O’Connor
DESCRIPTION:Ikuo Inoue from Tokyo and Cameron O’Connor\, will team up on a program that will include Japanese guitar music (solos and\nduos of Takemitsu\, Shingo Fujii\, Joe Hisaishi\, arrangements of traditional tune). \nRSVP casadellazisa@gmail.com or call 503-307-4907\n$20 seat; $15 for PGS members\, senior citizens\, and students
URL:https://www.peterzisa.com/performance/casa-della-zisa-presents-ikuo-inoue-cameron-oconnor/
LOCATION:Casa Della Zisa\, Portland\, OR\, United States
CATEGORIES:Casa Della Zisa
ORGANIZER;CN="Casa Della  Zisa":MAILTO: casadellazisa@gmail.com
END:VEVENT
BEGIN:VEVENT
DTSTART;VALUE=DATE:20190503
DTEND;VALUE=DATE:20190504
DTSTAMP:20260423T200743
CREATED:20190120T184848Z
LAST-MODIFIED:20190120T184848Z
UID:2378-1556841600-1556927999@www.peterzisa.com
SUMMARY:Peter Zisa at George Fox University
DESCRIPTION:
URL:https://www.peterzisa.com/performance/peter-zisa-at-george-fox-university/
LOCATION:George Fox University\, 414 N Meridian Street\, Newberg\, OR\, 97132\, United States
CATEGORIES:Peter Joseph Zisa
END:VEVENT
BEGIN:VEVENT
DTSTART;TZID=America/Vancouver:20190427T190000
DTEND;TZID=America/Vancouver:20190427T190000
DTSTAMP:20260423T200743
CREATED:20190426T195820Z
LAST-MODIFIED:20190426T195820Z
UID:2390-1556391600-1556391600@www.peterzisa.com
SUMMARY:Peter Zisa performs with Phoebe McRae
DESCRIPTION:Charity fundraising performance with Phoebe McRae. Along with solo works (by Sor\, Tarrega\, and Brower) and voice and guitar works by Handel\, Mozart\, Britten\, and Gershwin.
URL:https://www.peterzisa.com/performance/peter-zisa-performs-with-phoebe-mcrae/
LOCATION:OR
CATEGORIES:Peter Joseph Zisa
END:VEVENT
BEGIN:VEVENT
DTSTART;TZID=America/Vancouver:20190418T130000
DTEND;TZID=America/Vancouver:20190418T160000
DTSTAMP:20260423T200743
CREATED:20190426T195636Z
LAST-MODIFIED:20190426T195636Z
UID:2388-1555592400-1555603200@www.peterzisa.com
SUMMARY:Peter Zisa and Yukiko Vossen at Clark College
DESCRIPTION:Sakura Event at Clark College: two performances \nThe first performance was at 1:00 p.m. outdoor presentation at the Japanese Friendship Garden with Mayor Anne McEnerny Ogle\, Clark College President Bob Knight\, Japanese Consul General Takashi Teraoka\, and Clark College Japanese Scholarship recipient Kiho Takedoa. \nThe second performance was at 2:30 in the Gaiser Student Center; we did collaborative with Japanese calligraphy artist Sora Shodo.
URL:https://www.peterzisa.com/performance/peter-zisa-and-yukiko-vossen-at-clark-college/
LOCATION:Clark College\, 1933 Fort Vancouver Way\, Vancouver\, WA\, 98663\, United States
CATEGORIES:Peter Joseph Zisa
END:VEVENT
BEGIN:VEVENT
DTSTART;VALUE=DATE:20190321
DTEND;VALUE=DATE:20190322
DTSTAMP:20260423T200743
CREATED:20190113T215057Z
LAST-MODIFIED:20190426T194530Z
UID:2348-1553126400-1553212799@www.peterzisa.com
SUMMARY:Three Solo Performances in Japan
DESCRIPTION:
URL:https://www.peterzisa.com/performance/three-solo-performances-in-japan-2/
LOCATION:Casa de Music (Kitsuki City\, Japan)\, Kitsuki\, Japan
CATEGORIES:Peter Joseph Zisa
END:VEVENT
BEGIN:VEVENT
DTSTART;VALUE=DATE:20190316
DTEND;VALUE=DATE:20190317
DTSTAMP:20260423T200743
CREATED:20190113T215020Z
LAST-MODIFIED:20190113T215020Z
UID:2346-1552694400-1552780799@www.peterzisa.com
SUMMARY:Three Solo Performances in Japan
DESCRIPTION:
URL:https://www.peterzisa.com/performance/three-solo-performances-in-japan/
LOCATION:Charis Guitar (Tokyo\, Japan)\, Tokyo\, Japan
CATEGORIES:Peter Joseph Zisa
END:VEVENT
BEGIN:VEVENT
DTSTART;TZID=America/Vancouver:20190309T193000
DTEND;TZID=America/Vancouver:20190309T193000
DTSTAMP:20260423T200743
CREATED:20190113T214834Z
LAST-MODIFIED:20190113T214834Z
UID:2344-1552159800-1552159800@www.peterzisa.com
SUMMARY:Casa Della Zisa presents Duas Guitarras
DESCRIPTION:Duas Guitarras ~ Pam Beaty & Peter Zisa team up on a program of Brower\, Jobim\, Almeida\, Powell\, and Alfredo Vianna\n(Pixinguinha). \nRSVP casadellazisa@gmail.com or call 503-307-4907\n$20 seat; $15 for PGS members\, senior citizens\, and students
URL:https://www.peterzisa.com/performance/casa-della-zisa-presents-duas-guitarras/
LOCATION:Casa Della Zisa\, Portland\, OR\, United States
CATEGORIES:Casa Della Zisa
ORGANIZER;CN="Casa Della  Zisa":MAILTO: casadellazisa@gmail.com
END:VEVENT
BEGIN:VEVENT
DTSTART;TZID=America/Vancouver:20190308T193000
DTEND;TZID=America/Vancouver:20190308T193000
DTSTAMP:20260423T200743
CREATED:20190113T214656Z
LAST-MODIFIED:20190113T214656Z
UID:2342-1552073400-1552073400@www.peterzisa.com
SUMMARY:Peter Zisa Solo Performance
DESCRIPTION:Solo Classical Guitar Program
URL:https://www.peterzisa.com/performance/peter-zisa-solo-performance-5/
LOCATION:Terwilliger Plaza\, 2545 SW Terwilliger Blvd.\, Portland\, OR\, 97201\, United States
CATEGORIES:Peter Joseph Zisa
END:VEVENT
BEGIN:VEVENT
DTSTART;TZID=America/Vancouver:20190302T193000
DTEND;TZID=America/Vancouver:20190302T193000
DTSTAMP:20260423T200743
CREATED:20190113T214536Z
LAST-MODIFIED:20190113T214536Z
UID:2340-1551555000-1551555000@www.peterzisa.com
SUMMARY:Casa Della Zisa presents Arnica Quartet
DESCRIPTION:The Arnica String Quartet (Shin-young Kwon and Fumino Ando\, violins; Charles Noble\, viola; Heather Blackburn\, cello) was\nfounded in 2005 by four leading Portland musicians; three of which are members of the Portland Symphony. Known for performances of the highest quality\, Their program celebrates the music of Mozart & Arriaga (“The Spanish Mozart”).\n\nRSVP casadellazisa@gmail.com or call 503-307-4907\n$20 seat; $15 for PGS members\, senior citizens\, and students
URL:https://www.peterzisa.com/performance/casa-della-zisa-presents-arnica-quartet/
LOCATION:Casa Della Zisa\, Portland\, OR\, United States
CATEGORIES:Casa Della Zisa
ORGANIZER;CN="Casa Della  Zisa":MAILTO: casadellazisa@gmail.com
END:VEVENT
BEGIN:VEVENT
DTSTART;TZID=America/Vancouver:20190223T193000
DTEND;TZID=America/Vancouver:20190223T193000
DTSTAMP:20260423T200743
CREATED:20190113T214354Z
LAST-MODIFIED:20190113T214403Z
UID:2338-1550950200-1550950200@www.peterzisa.com
SUMMARY:Casa Della Zisa presents Devin Kosloff\, Classical Guitar
DESCRIPTION:Devin Kosloff\, Classical Guitar \nGraduate of PSU – studied with Bryan Johanson and Jesse McCann \nPortland performing artist and teacher; performer-presenter for CDZ-Collegium Musica. \nRSVP casadellazisa@gmail.com or call 503-307-4907\n$20 seat; $15 for PGS members\, senior citizens\, and students
URL:https://www.peterzisa.com/performance/casa-della-zisa-presents-devin-kosloff-classical-guitar/
LOCATION:Casa Della Zisa\, Portland\, OR\, United States
CATEGORIES:Casa Della Zisa
ORGANIZER;CN="Casa Della  Zisa":MAILTO: casadellazisa@gmail.com
END:VEVENT
BEGIN:VEVENT
DTSTART;TZID=America/Vancouver:20190209T193000
DTEND;TZID=America/Vancouver:20190209T193000
DTSTAMP:20260423T200743
CREATED:20190113T214229Z
LAST-MODIFIED:20190120T184603Z
UID:2335-1549740600-1549740600@www.peterzisa.com
SUMMARY:Peter Zisa with Phoebe MacRae
DESCRIPTION:Peter Zisa performs with Phoebe MacRae
URL:https://www.peterzisa.com/performance/peter-zisa-with-phoebe-macrae/
LOCATION:Private Event
CATEGORIES:Peter Joseph Zisa
END:VEVENT
BEGIN:VEVENT
DTSTART;TZID=America/Vancouver:20190209T193000
DTEND;TZID=America/Vancouver:20190209T193000
DTSTAMP:20260423T200743
CREATED:20190113T213942Z
LAST-MODIFIED:20190113T213942Z
UID:2332-1549740600-1549740600@www.peterzisa.com
SUMMARY:Casa Della Zisa presents Eduardo Costa
DESCRIPTION:Eduardo Costa –  Winner of 11 International Guitar Competitions \n“A consummate artist…his refined technique is at the service of his musicality\, making it a great pleasure to listen to his performances.” – David Russell\, Grammy-award winning artist \nRSVP casadellazisa@gmail.com or call 503-307-4907\n$20 seat; $15 for PGS members\, senior citizens\, and students
URL:https://www.peterzisa.com/performance/casa-della-zisa-presents-eduardo-costa/
LOCATION:Casa Della Zisa\, Portland\, OR\, United States
CATEGORIES:Casa Della Zisa
END:VEVENT
BEGIN:VEVENT
DTSTART;TZID=America/Vancouver:20190208T080000
DTEND;TZID=America/Vancouver:20190208T170000
DTSTAMP:20260423T200743
CREATED:20191201T035428Z
LAST-MODIFIED:20191201T035428Z
UID:2550-1549612800-1549645200@www.peterzisa.com
SUMMARY:Laura Husbands
DESCRIPTION:Laura Husbands – Graduate of Scottish Academy of Music\, Top prize winner of 11 International Competitions\,Winner of Chanterelle Guitar Competition\, Winner of PSU Guitar Competition. Prof of Music at the University of Denver.  Member with husband of Sakura Guitar Duo.
URL:https://www.peterzisa.com/performance/laura-husbands/
LOCATION:OR
CATEGORIES:Casa Della Zisa
END:VEVENT
BEGIN:VEVENT
DTSTART;TZID=America/Vancouver:20190202T140000
DTEND;TZID=America/Vancouver:20190202T163000
DTSTAMP:20260423T200743
CREATED:20191201T035239Z
LAST-MODIFIED:20191201T035239Z
UID:2548-1549116000-1549125000@www.peterzisa.com
SUMMARY:Afternoon Youth Open Mic Forum
DESCRIPTION:Portland Guitar Society & CDZ-Collegium Musica Present Afternoon Youth Open Mic Forum \n (Featured performer to be announced)
URL:https://www.peterzisa.com/performance/afternoon-youth-open-mic-forum-2/
LOCATION:OR
CATEGORIES:Casa Della Zisa
END:VEVENT
BEGIN:VEVENT
DTSTART;TZID=America/Vancouver:20190125T193000
DTEND;TZID=America/Vancouver:20190125T193000
DTSTAMP:20260423T200743
CREATED:20190120T184750Z
LAST-MODIFIED:20190120T184750Z
UID:2376-1548444600-1548444600@www.peterzisa.com
SUMMARY:Peter Zisa at Neveh Shalom
DESCRIPTION:
URL:https://www.peterzisa.com/performance/peter-zisa-at-neveh-shalom/
LOCATION:OR
CATEGORIES:Peter Joseph Zisa
END:VEVENT
BEGIN:VEVENT
DTSTART;TZID=America/Vancouver:20190125T193000
DTEND;TZID=America/Vancouver:20190125T193000
DTSTAMP:20260423T200743
CREATED:20190113T213633Z
LAST-MODIFIED:20190113T213633Z
UID:2330-1548444600-1548444600@www.peterzisa.com
SUMMARY:Casa Della Zisa presents Tatiana Kolchanova and Mary Rowell
DESCRIPTION:Mary & Tatiana Violin Duo\n(violin duo) From Baroque to Bartok. \nRSVP casadellazisa@gmail.com or call 503-307-4907 \n$20 seat; $15 for PGS members\, senior citizens\, and students
URL:https://www.peterzisa.com/performance/casa-della-zisa-presents-tatiana-kolchanova-and-mary-rowell/
LOCATION:Casa Della Zisa\, Portland\, OR\, United States
CATEGORIES:Casa Della Zisa
END:VEVENT
BEGIN:VEVENT
DTSTART;VALUE=DATE:20190120
DTEND;VALUE=DATE:20190121
DTSTAMP:20260423T200743
CREATED:20190120T184652Z
LAST-MODIFIED:20190120T184652Z
UID:2374-1547942400-1548028799@www.peterzisa.com
SUMMARY:Peter Zisa at The Grotto
DESCRIPTION:
URL:https://www.peterzisa.com/performance/peter-zisa-at-the-grotto/
LOCATION:The Grotto\, 8840 NE Skidmore Street\, Portland\, OR\, 97220\, United States
CATEGORIES:Peter Joseph Zisa
END:VEVENT
BEGIN:VEVENT
DTSTART;TZID=America/Vancouver:20190113T080000
DTEND;TZID=America/Vancouver:20190113T170000
DTSTAMP:20260423T200743
CREATED:20190113T215327Z
LAST-MODIFIED:20190113T215327Z
UID:2352-1547366400-1547398800@www.peterzisa.com
SUMMARY:Peter Zisa Instrument Showcase
DESCRIPTION:
URL:https://www.peterzisa.com/performance/peter-zisa-instrument-showcase-4/
LOCATION:Portland Community College; Sylvania Campus\, 12000 SW 49th Ave\, Portland\, OR\, 97219\, United States
CATEGORIES:Peter Joseph Zisa
END:VEVENT
BEGIN:VEVENT
DTSTART;TZID=America/Vancouver:20190105T140000
DTEND;TZID=America/Vancouver:20190105T160000
DTSTAMP:20260423T200743
CREATED:20191201T034830Z
LAST-MODIFIED:20191201T034830Z
UID:2543-1546696800-1546704000@www.peterzisa.com
SUMMARY:Afternoon Youth Open Mic Forum
DESCRIPTION:Portland Guitar Society & CDZ-Collegium Musica Present Afternoon Youth Open Mic Forum @ Casa Della Zisa 2:00 p.m.
URL:https://www.peterzisa.com/performance/afternoon-youth-open-mic-forum/
LOCATION:OR
CATEGORIES:Casa Della Zisa
END:VEVENT
BEGIN:VEVENT
DTSTART;TZID=America/Vancouver:20181208T190000
DTEND;TZID=America/Vancouver:20181208T190000
DTSTAMP:20260423T200743
CREATED:20180709T225519Z
LAST-MODIFIED:20181108T000028Z
UID:2229-1544295600-1544295600@www.peterzisa.com
SUMMARY:12th Annual Season of Lights Holiday Concert
DESCRIPTION:Peter Zisa and Friends Present 12th Annual Season of Lights Holiday Benefit Concert \n2018SeasonOfLights \nSaturday\, December 8\, 2018  \n     7:00 PM \nRose City Park Presbyterian Church \n1907 NE 45th Ave \nPortland\, OR 97213 \nFree Admission (Donations to Charity: CDZ Collegium Musica) \n  \nSeasons of Lights is a gift to the community from Peter Zisa and Friends. An annual benefit concert since 2006\, SOL returns this year with an exciting program of music that celebrates the many cultural and faith traditions of the Portland community. \n  \nThis year’s Season of Lights Holiday Program will feature music from Morocco\, Spain\, Poland\, Russia\, Japan\, Italy\, India\, Ghana (Africa) and the Americas. Among the artists performing are legendary Jazz Hall of Fame vocalist Shirley Nanette; award-winning international group Seffarine\, (guitar and oud\, Nat Hulskamp\,  vocalist\, Lamaie Naki; percussion\, Mimy Fikira); Cantor Eyal Bitton (congregation Neveh Shalom)\, violinists Andrew Ehrlich\, Majestic Duo: Tatiana Kolchanova and Mary Rowell\,  Thousand Waves (Yukiko Yamaguchi\, Japanese koto; LeeAnn McKenna\, flute\, percussion\, Mimy Fikira)\, Carnatic Indian dancer Klinton Halliday (Carnatic Indian dancer)\, and guitarist Peter Joseph Zisa. \nDonations benefits Music Education for Children and Adolescents (non-profit: CDZ Collegium Musica). “The Seasons of Light made my holiday celebration!” – D.L. \n  \n“Seasons of Light was the most inspiring holiday concert I have attended in many years – and also\, the most fun!” – M.S \nSOL is also an opportunity to support charitable organizations that benefit our community. This year\, the CDZ Collegium Musica is the represented charity. CDZ Collegium’s mission is Giving Voice to Our Youth through Music: Expression\, Connection\, and Creativity. Musiking (doing music: from playing an instrument to composing) is vital part of our children’s emotional\, intellectual\, and spiritual human development. For disadvantaged at-risk children and youth\, musiking represents empowerment through creative expression. \n 
URL:https://www.peterzisa.com/performance/season-of-lights-holiday-concert/
LOCATION:Rose City Park Presbyterian Church\, 1907 NE 45th Avenue\, Portland\, OR\, 97213\, United States
CATEGORIES:Peter Joseph Zisa
END:VEVENT
END:VCALENDAR